BEGIN:VCALENDAR
VERSION:2.0
PRODID:-//Scandinavia House - ECPv6.15.3//NONSGML v1.0//EN
CALSCALE:GREGORIAN
METHOD:PUBLISH
X-WR-CALNAME:Scandinavia House
X-ORIGINAL-URL:https://www.scandinaviahouse.org
X-WR-CALDESC:Events for Scandinavia House
REFRESH-INTERVAL;VALUE=DURATION:PT1H
X-Robots-Tag:noindex
X-PUBLISHED-TTL:PT1H
BEGIN:VTIMEZONE
TZID:America/New_York
BEGIN:DAYLIGHT
TZOFFSETFROM:-0500
TZOFFSETTO:-0400
TZNAME:EDT
DTSTART:20240310T070000
END:DAYLIGHT
BEGIN:STANDARD
TZOFFSETFROM:-0400
TZOFFSETTO:-0500
TZNAME:EST
DTSTART:20241103T060000
END:STANDARD
END:VTIMEZONE
BEGIN:VEVENT
DTSTART;TZID=America/New_York:20240429T120000
DTEND;TZID=America/New_York:20240429T235900
DTSTAMP:20260422T184057
CREATED:20240327T203030Z
LAST-MODIFIED:20240516T170213Z
UID:10003244-1714392000-1714435140@www.scandinaviahouse.org
SUMMARY:FILMS FROM THE FAROE ISLANDS  — VIRTUAL SCREENINGS
DESCRIPTION:Presented in Faroe Islands Culture Days\, see virtual screenings of some of the best contemporary film from the Faroe Islands in “Fog-Swept Cinema”! \nFrom April 19 through May 5\, 2024\, a virtual screening package will be available with three feature films — the coming-of-age drama Dreams by the Sea\, the surrealist feature 111 Good Days\, and the documentary Skál — as well as four short films\, showcasing today’s leading filmmakers from the North Atlantic archipelago. \nVirtual screening packages are available throughout the U.S. \nRead the full lineup here. \nPurchase tickets. 
URL:https://www.scandinaviahouse.org/event/films-from-the-faroe-islands-virtual-screenings/2024-04-29/
LOCATION:NY
CATEGORIES:Films
ATTACH;FMTTYPE=image/jpeg:https://www.scandinaviahouse.org/wp-content/uploads/2024/03/Brother-Troll-26_WEB_FSC_SCREAMER-scaled.jpg
END:VEVENT
BEGIN:VEVENT
DTSTART;TZID=America/New_York:20240430T120000
DTEND;TZID=America/New_York:20240430T235900
DTSTAMP:20260422T184057
CREATED:20240327T203030Z
LAST-MODIFIED:20240516T170213Z
UID:10003245-1714478400-1714521540@www.scandinaviahouse.org
SUMMARY:FILMS FROM THE FAROE ISLANDS  — VIRTUAL SCREENINGS
DESCRIPTION:Presented in Faroe Islands Culture Days\, see virtual screenings of some of the best contemporary film from the Faroe Islands in “Fog-Swept Cinema”! \nFrom April 19 through May 5\, 2024\, a virtual screening package will be available with three feature films — the coming-of-age drama Dreams by the Sea\, the surrealist feature 111 Good Days\, and the documentary Skál — as well as four short films\, showcasing today’s leading filmmakers from the North Atlantic archipelago. \nVirtual screening packages are available throughout the U.S. \nRead the full lineup here. \nPurchase tickets. 
URL:https://www.scandinaviahouse.org/event/films-from-the-faroe-islands-virtual-screenings/2024-04-30/
LOCATION:NY
CATEGORIES:Films
ATTACH;FMTTYPE=image/jpeg:https://www.scandinaviahouse.org/wp-content/uploads/2024/03/Brother-Troll-26_WEB_FSC_SCREAMER-scaled.jpg
END:VEVENT
BEGIN:VEVENT
DTSTART;TZID=America/New_York:20240430T174500
DTEND;TZID=America/New_York:20240430T184500
DTSTAMP:20260422T184057
CREATED:20240221T220322Z
LAST-MODIFIED:20240514T224335Z
UID:10003200-1714499100-1714502700@www.scandinaviahouse.org
SUMMARY:NORWEGIAN 1
DESCRIPTION:Learn the Nordic languages in classes offered this spring at Scandinavia House! In this beginner’s course\, you will build your Norwegian vocabulary\, pronunciation\, and grammar skills\, while also learning about Norwegian culture and life. By the course’s end\, you should be able to conduct simple conversations in Norwegian. \nYou will get to practice conversations and reading in class\, and there will be a focus on pronunciation\, and Norwegian vowels and sounds\, which may be new to your ear. Students are welcome to bring personal experiences\, anecdotes\, and facts about Norway into class discussions. There will also be at-home assignments focusing on reading\, writing\, and grammar\, as well as an optional end-of-semester presentation. \nOutside of class\, students are encouraged to watch Norwegian shows\, and movies\, read simple text\, and have Norwegian podcasts on in the background. \nThe required text will be provided via pdf\, before the first class. \nIdeal for: \n\nAbsolute beginners\nThose seeking a solid foundation in the Norwegian language\nThose interested in traveling to Norway\n\nYou will develop: \n\nBeginner-level conversational skills in Norwegian\nProficiency in basic Norwegian grammar\n\nThis hybrid class will be held both in-person and via Zoom; in-person attendance for the first four classes is highly recommended. Classes take place on Tuesday and Wednesday from 5:45-6:45 PM beginning Tuesday\, March 19. \nNo prerequisites required; instructions for remote learning will be emailed upon registration. For questions about language levels\, please contact Marie-Therese Bjornerud. Tuition is $675 ($607.50 ASF Members); 20 hours total class time. \nRequired & Recommended Material\nRequired:\nTextbook: PA VEI TEKSTBOK\, ELLINGSEN\, 2012 – ISBN: 9788202340940\nWorkbook: PA VEI ARBEIDSBOK\, ELLINGSEN\, 2012 – ISBN: 9788202343163 \nHighly Recommended:\nWord List: PA VEI Norsk-Engelsk Ordliste\, ELLINGSEN\, 2012 – ISBN: 9788202372255\nCD-set: PA VEI ELEV-CD til tekstbok\, ELLINGSEN\, 2012 – ISBN: 9788202371869 \nAlso Recommended:\nOnline exercises (both oral and written) following the textbook\nNotebooks for vocabulary as well as notes\nDuolingo (Android\, Apple) and other language apps to expand vocabulary and support the learning process \nRegister
URL:https://www.scandinaviahouse.org/event/norwegian-1/2024-04-30/
LOCATION:Scandinavia House\, 58 Park Avenue\, New York\, NY\, 10016\, United States
ATTACH;FMTTYPE=image/jpeg:https://www.scandinaviahouse.org/wp-content/uploads/2022/09/peter-hansen-TR8X68ILkGA-unsplash-new-website-scaled.jpg
END:VEVENT
BEGIN:VEVENT
DTSTART;TZID=America/New_York:20240430T193000
DTEND;TZID=America/New_York:20240430T210000
DTSTAMP:20260422T184057
CREATED:20230901T220327Z
LAST-MODIFIED:20240521T203635Z
UID:10002909-1714505400-1714510800@www.scandinaviahouse.org
SUMMARY:THREE GREAT ROMANTICS: KEYBOARD CONVERSATIONS® WITH JEFFREY SIEGEL
DESCRIPTION:Internationally acclaimed pianist Jeffrey Siegel returns this fall for his ever-popular Keyboard Conversations® series at Scandinavia House. Each evening comprises an informal commentary on the music and its composers\, a full performance of each work\, and a short Q & A session. The engaging format both makes friends of classical music and enriches the listening experience for avid music lovers. \nOn January 1\, 1888\, three popular composers — Grieg\, Tchaikovsky and Brahms — came together for one and only time. Hear how they influenced one another — and went their own way! \n\n\nThanks to a generous loan by Victor Borge’s grandson Finn\, concerts will be performed on Victor Borge’s personal Steinway piano. \nPurchase Tickets
URL:https://www.scandinaviahouse.org/event/keyboard-conversations-three-great-romantics/
LOCATION:Scandinavia House\, 58 Park Avenue\, New York\, NY\, 10016\, United States
CATEGORIES:Concerts
ATTACH;FMTTYPE=image/jpeg:https://www.scandinaviahouse.org/wp-content/uploads/2023/08/Photo-Jeffrey-Siegel-at-the-piano-1_NEW-WEB-scaled.jpg
END:VEVENT
BEGIN:VEVENT
DTSTART;TZID=America/New_York:20240501T120000
DTEND;TZID=America/New_York:20240501T235900
DTSTAMP:20260422T184057
CREATED:20240327T203030Z
LAST-MODIFIED:20240516T170213Z
UID:10003246-1714564800-1714607940@www.scandinaviahouse.org
SUMMARY:FILMS FROM THE FAROE ISLANDS  — VIRTUAL SCREENINGS
DESCRIPTION:Presented in Faroe Islands Culture Days\, see virtual screenings of some of the best contemporary film from the Faroe Islands in “Fog-Swept Cinema”! \nFrom April 19 through May 5\, 2024\, a virtual screening package will be available with three feature films — the coming-of-age drama Dreams by the Sea\, the surrealist feature 111 Good Days\, and the documentary Skál — as well as four short films\, showcasing today’s leading filmmakers from the North Atlantic archipelago. \nVirtual screening packages are available throughout the U.S. \nRead the full lineup here. \nPurchase tickets. 
URL:https://www.scandinaviahouse.org/event/films-from-the-faroe-islands-virtual-screenings/2024-05-01/
LOCATION:NY
CATEGORIES:Films
ATTACH;FMTTYPE=image/jpeg:https://www.scandinaviahouse.org/wp-content/uploads/2024/03/Brother-Troll-26_WEB_FSC_SCREAMER-scaled.jpg
END:VEVENT
BEGIN:VEVENT
DTSTART;TZID=America/New_York:20240501T174500
DTEND;TZID=America/New_York:20240501T184500
DTSTAMP:20260422T184057
CREATED:20240221T220322Z
LAST-MODIFIED:20240514T224335Z
UID:10003201-1714585500-1714589100@www.scandinaviahouse.org
SUMMARY:NORWEGIAN 1
DESCRIPTION:Learn the Nordic languages in classes offered this spring at Scandinavia House! In this beginner’s course\, you will build your Norwegian vocabulary\, pronunciation\, and grammar skills\, while also learning about Norwegian culture and life. By the course’s end\, you should be able to conduct simple conversations in Norwegian. \nYou will get to practice conversations and reading in class\, and there will be a focus on pronunciation\, and Norwegian vowels and sounds\, which may be new to your ear. Students are welcome to bring personal experiences\, anecdotes\, and facts about Norway into class discussions. There will also be at-home assignments focusing on reading\, writing\, and grammar\, as well as an optional end-of-semester presentation. \nOutside of class\, students are encouraged to watch Norwegian shows\, and movies\, read simple text\, and have Norwegian podcasts on in the background. \nThe required text will be provided via pdf\, before the first class. \nIdeal for: \n\nAbsolute beginners\nThose seeking a solid foundation in the Norwegian language\nThose interested in traveling to Norway\n\nYou will develop: \n\nBeginner-level conversational skills in Norwegian\nProficiency in basic Norwegian grammar\n\nThis hybrid class will be held both in-person and via Zoom; in-person attendance for the first four classes is highly recommended. Classes take place on Tuesday and Wednesday from 5:45-6:45 PM beginning Tuesday\, March 19. \nNo prerequisites required; instructions for remote learning will be emailed upon registration. For questions about language levels\, please contact Marie-Therese Bjornerud. Tuition is $675 ($607.50 ASF Members); 20 hours total class time. \nRequired & Recommended Material\nRequired:\nTextbook: PA VEI TEKSTBOK\, ELLINGSEN\, 2012 – ISBN: 9788202340940\nWorkbook: PA VEI ARBEIDSBOK\, ELLINGSEN\, 2012 – ISBN: 9788202343163 \nHighly Recommended:\nWord List: PA VEI Norsk-Engelsk Ordliste\, ELLINGSEN\, 2012 – ISBN: 9788202372255\nCD-set: PA VEI ELEV-CD til tekstbok\, ELLINGSEN\, 2012 – ISBN: 9788202371869 \nAlso Recommended:\nOnline exercises (both oral and written) following the textbook\nNotebooks for vocabulary as well as notes\nDuolingo (Android\, Apple) and other language apps to expand vocabulary and support the learning process \nRegister
URL:https://www.scandinaviahouse.org/event/norwegian-1/2024-05-01/
LOCATION:Scandinavia House\, 58 Park Avenue\, New York\, NY\, 10016\, United States
ATTACH;FMTTYPE=image/jpeg:https://www.scandinaviahouse.org/wp-content/uploads/2022/09/peter-hansen-TR8X68ILkGA-unsplash-new-website-scaled.jpg
END:VEVENT
BEGIN:VEVENT
DTSTART;TZID=America/New_York:20240502T120000
DTEND;TZID=America/New_York:20240502T235900
DTSTAMP:20260422T184057
CREATED:20240327T203030Z
LAST-MODIFIED:20240516T170213Z
UID:10003247-1714651200-1714694340@www.scandinaviahouse.org
SUMMARY:FILMS FROM THE FAROE ISLANDS  — VIRTUAL SCREENINGS
DESCRIPTION:Presented in Faroe Islands Culture Days\, see virtual screenings of some of the best contemporary film from the Faroe Islands in “Fog-Swept Cinema”! \nFrom April 19 through May 5\, 2024\, a virtual screening package will be available with three feature films — the coming-of-age drama Dreams by the Sea\, the surrealist feature 111 Good Days\, and the documentary Skál — as well as four short films\, showcasing today’s leading filmmakers from the North Atlantic archipelago. \nVirtual screening packages are available throughout the U.S. \nRead the full lineup here. \nPurchase tickets. 
URL:https://www.scandinaviahouse.org/event/films-from-the-faroe-islands-virtual-screenings/2024-05-02/
LOCATION:NY
CATEGORIES:Films
ATTACH;FMTTYPE=image/jpeg:https://www.scandinaviahouse.org/wp-content/uploads/2024/03/Brother-Troll-26_WEB_FSC_SCREAMER-scaled.jpg
END:VEVENT
BEGIN:VEVENT
DTSTART;TZID=America/New_York:20240502T190000
DTEND;TZID=America/New_York:20240502T203000
DTSTAMP:20260422T184057
CREATED:20240410T145133Z
LAST-MODIFIED:20240514T210111Z
UID:10003251-1714676400-1714681800@www.scandinaviahouse.org
SUMMARY:PRISON PROJECT: LITTLE SCANDINAVIA | SCREENING & PANEL
DESCRIPTION:How can a U.S. correctional facility adapt to more humane principals and methods? Can Scandinavian incarceration practices\, values and theories work inside an American prison? And what will a U.S. adaptation of these practices look like? Join us to explore these questions and more on May 2 with a presentation of Prison Project: Little Scandinavia and a panel at Scandinavia House. The program will begin with a screening of the documentary\, which explores the Little Scandinavia unit of SCI Chester in Pennsylvania\, followed by a discussion with Gina Clark (Superintendent\, SCI Chester\, Pennsylvania Department of Corrections)\, Martin Gillå (Head of International Unit\, Kriminalvården (Swedish Prison and Probation Service))\, and Are Høidal (Senior Advisor and former Governor of Halden Prison\, Kriminalomsorgen (Norwegian Correctional Service))\, moderated by ASF Fellow Jordan Hyatt. \nRegister
URL:https://www.scandinaviahouse.org/event/prison-project-little-scandinavia-screening-panel/
LOCATION:Scandinavia House\, 58 Park Avenue\, New York\, NY\, 10016\, United States
ATTACH;FMTTYPE=image/jpeg:https://www.scandinaviahouse.org/wp-content/uploads/2024/04/Prisons_WEB-scaled.jpg
END:VEVENT
BEGIN:VEVENT
DTSTART;TZID=America/New_York:20240503T120000
DTEND;TZID=America/New_York:20240503T235900
DTSTAMP:20260422T184057
CREATED:20240327T203030Z
LAST-MODIFIED:20240516T170213Z
UID:10003248-1714737600-1714780740@www.scandinaviahouse.org
SUMMARY:FILMS FROM THE FAROE ISLANDS  — VIRTUAL SCREENINGS
DESCRIPTION:Presented in Faroe Islands Culture Days\, see virtual screenings of some of the best contemporary film from the Faroe Islands in “Fog-Swept Cinema”! \nFrom April 19 through May 5\, 2024\, a virtual screening package will be available with three feature films — the coming-of-age drama Dreams by the Sea\, the surrealist feature 111 Good Days\, and the documentary Skál — as well as four short films\, showcasing today’s leading filmmakers from the North Atlantic archipelago. \nVirtual screening packages are available throughout the U.S. \nRead the full lineup here. \nPurchase tickets. 
URL:https://www.scandinaviahouse.org/event/films-from-the-faroe-islands-virtual-screenings/2024-05-03/
LOCATION:NY
CATEGORIES:Films
ATTACH;FMTTYPE=image/jpeg:https://www.scandinaviahouse.org/wp-content/uploads/2024/03/Brother-Troll-26_WEB_FSC_SCREAMER-scaled.jpg
END:VEVENT
BEGIN:VEVENT
DTSTART;TZID=America/New_York:20240504T120000
DTEND;TZID=America/New_York:20240504T235900
DTSTAMP:20260422T184057
CREATED:20240327T203030Z
LAST-MODIFIED:20240516T170213Z
UID:10003249-1714824000-1714867140@www.scandinaviahouse.org
SUMMARY:FILMS FROM THE FAROE ISLANDS  — VIRTUAL SCREENINGS
DESCRIPTION:Presented in Faroe Islands Culture Days\, see virtual screenings of some of the best contemporary film from the Faroe Islands in “Fog-Swept Cinema”! \nFrom April 19 through May 5\, 2024\, a virtual screening package will be available with three feature films — the coming-of-age drama Dreams by the Sea\, the surrealist feature 111 Good Days\, and the documentary Skál — as well as four short films\, showcasing today’s leading filmmakers from the North Atlantic archipelago. \nVirtual screening packages are available throughout the U.S. \nRead the full lineup here. \nPurchase tickets. 
URL:https://www.scandinaviahouse.org/event/films-from-the-faroe-islands-virtual-screenings/2024-05-04/
LOCATION:NY
CATEGORIES:Films
ATTACH;FMTTYPE=image/jpeg:https://www.scandinaviahouse.org/wp-content/uploads/2024/03/Brother-Troll-26_WEB_FSC_SCREAMER-scaled.jpg
END:VEVENT
BEGIN:VEVENT
DTSTART;TZID=America/New_York:20240505T110000
DTEND;TZID=America/New_York:20240505T160000
DTSTAMP:20260422T184057
CREATED:20240501T173441Z
LAST-MODIFIED:20240514T223520Z
UID:10003257-1714906800-1714924800@www.scandinaviahouse.org
SUMMARY:BJÖRK CINCO DE MAYO — SCANDINAVIAN STYLE!
DESCRIPTION:Celebrate Cinco de Mayo Scandinavian-style at Björk Cafe & Bistro! The cafe will be offering a special Faroese-Mexican fusion “Rye Taco” as well as a Lingonberry Margaritas for $32 per person. \nRESERVATIONS 
URL:https://www.scandinaviahouse.org/event/bjork-cinco-de-mayo-scandinavian-style/
LOCATION:Björk Cafe & Bistro at Scandinavia House\, 58 Park Ave\, New York\, NY\, 10016\, United States
ATTACH;FMTTYPE=image/png:https://www.scandinaviahouse.org/wp-content/uploads/2024/05/cinco_web.png
END:VEVENT
BEGIN:VEVENT
DTSTART;TZID=America/New_York:20240505T120000
DTEND;TZID=America/New_York:20240505T235900
DTSTAMP:20260422T184057
CREATED:20240327T203030Z
LAST-MODIFIED:20240516T170213Z
UID:10003250-1714910400-1714953540@www.scandinaviahouse.org
SUMMARY:FILMS FROM THE FAROE ISLANDS  — VIRTUAL SCREENINGS
DESCRIPTION:Presented in Faroe Islands Culture Days\, see virtual screenings of some of the best contemporary film from the Faroe Islands in “Fog-Swept Cinema”! \nFrom April 19 through May 5\, 2024\, a virtual screening package will be available with three feature films — the coming-of-age drama Dreams by the Sea\, the surrealist feature 111 Good Days\, and the documentary Skál — as well as four short films\, showcasing today’s leading filmmakers from the North Atlantic archipelago. \nVirtual screening packages are available throughout the U.S. \nRead the full lineup here. \nPurchase tickets. 
URL:https://www.scandinaviahouse.org/event/films-from-the-faroe-islands-virtual-screenings/2024-05-05/
LOCATION:NY
CATEGORIES:Films
ATTACH;FMTTYPE=image/jpeg:https://www.scandinaviahouse.org/wp-content/uploads/2024/03/Brother-Troll-26_WEB_FSC_SCREAMER-scaled.jpg
END:VEVENT
END:VCALENDAR