BEGIN:VCALENDAR
VERSION:2.0
PRODID:-//Scandinavia House - ECPv6.15.3//NONSGML v1.0//EN
CALSCALE:GREGORIAN
METHOD:PUBLISH
X-WR-CALNAME:Scandinavia House
X-ORIGINAL-URL:https://www.scandinaviahouse.org
X-WR-CALDESC:Events for Scandinavia House
REFRESH-INTERVAL;VALUE=DURATION:PT1H
X-Robots-Tag:noindex
X-PUBLISHED-TTL:PT1H
BEGIN:VTIMEZONE
TZID:America/New_York
BEGIN:DAYLIGHT
TZOFFSETFROM:-0500
TZOFFSETTO:-0400
TZNAME:EDT
DTSTART:20240310T070000
END:DAYLIGHT
BEGIN:STANDARD
TZOFFSETFROM:-0400
TZOFFSETTO:-0500
TZNAME:EST
DTSTART:20241103T060000
END:STANDARD
END:VTIMEZONE
BEGIN:VEVENT
DTSTART;TZID=America/New_York:20240611T180000
DTEND;TZID=America/New_York:20240611T190000
DTSTAMP:20260423T073539
CREATED:20240320T211341Z
LAST-MODIFIED:20240514T211429Z
UID:10003230-1718128800-1718132400@www.scandinaviahouse.org
SUMMARY:ANTIQUITY BY HANNA JOHANSSON
DESCRIPTION:Read and discuss literature with our Nordic Book Club Online! On June 11\, we’ll be exploring Antiquity by Hanna Johansson\, a queer Lolita story of desire\, power\, obsession\, observation\, and taboo. \nOn a Greek island rich with ancient beauty\, a lonely woman in her thirties upends the relationship between a mother and her teenage daughter. Lust and admiration for Helena\, a chic older artist\, brings Antiquity’s unnamed narrator to Ermoupoli\, where Helena’s daughter\, Olga\, seems at first like an obstacle and a nuisance. But the unpredictable forces of ego and desire take over\, leading our narrator down a more dangerous path\, and causing the roles of lover and beloved\, child and adult\, stranger and intimate to become distorted. As the months go by\, the fragile web connecting the three women nears rupture\, and the ominous consequences of their entanglement loom just beyond a summer that must end. \nWith echoes of Death in Venice\, Call Me by Your Name\, and The Lover\, but wholly original and contemporary\, Antiquity probes the depths of memory\, beauty\, morality\, and the events that arrange our experience of the world. \nRegister
URL:https://www.scandinaviahouse.org/event/antiquity-by-hanna-johansson/
LOCATION:NY
ATTACH;FMTTYPE=image/png:https://www.scandinaviahouse.org/wp-content/uploads/2024/03/Antiquity_WEB_scaled.png
END:VEVENT
BEGIN:VEVENT
DTSTART;TZID=America/New_York:20240612T190000
DTEND;TZID=America/New_York:20240612T210000
DTSTAMP:20260423T073539
CREATED:20240517T182055Z
LAST-MODIFIED:20240521T190857Z
UID:10003271-1718218800-1718226000@www.scandinaviahouse.org
SUMMARY:PREJUDICE & PRIDE | SCREENING & FILM TALK WITH EVA BELING
DESCRIPTION:Join us on June 12 for a screening of Prejudice & Pride – Swedish Film Queer (Fördom & Stolthet\, dir. Eva Beling\, 2022)\, a documentary and rainbow-colored roller coaster ride through the history of Swedish queer cinema! Director Eva Beling will be present for a film talk and Q&A after the screening. \nHow could it possibly take 100 years to see a same-sex kiss in Swedish feature film? Queer people have played many roles throughout the entire history of Swedish film\, but early onscreen portrayals of queerness were often profoundly tragic. In this documentary\, director Eva Beling blends footage from the Swedish Film Institute archives and interviews with many pioneers of Swedish cinema. These include director Marie-Louise Ekman\, writer and performer Jonas Gardell and Rikard Wolff\, whose character Zac in House of Angels was one of the first widely loved queer figures in cinema. She also spoke with other figures about Swedish queer cinema today\, including Mian Lodalen\, Saga Becker\, Gösta Ekman\, Levan Akin\, Ella Lemhagen\, Bruce LaBruce and others. \nPurchase Tickets
URL:https://www.scandinaviahouse.org/event/prejudice-pride-screening-film-talk-with-eva-beling/
LOCATION:Scandinavia House\, 58 Park Avenue\, New York\, NY\, 10016\, United States
ATTACH;FMTTYPE=image/jpeg:https://www.scandinaviahouse.org/wp-content/uploads/2024/05/Skilda-tiders-dans-Emma-Meissner-o-Rosa-Grunberg_kortfilm1909_FRI-1_Web.jpg
END:VEVENT
BEGIN:VEVENT
DTSTART;TZID=America/New_York:20240613T180000
DTEND;TZID=America/New_York:20240613T200000
DTSTAMP:20260423T073539
CREATED:20240503T201717Z
LAST-MODIFIED:20240514T204642Z
UID:10003260-1718301600-1718308800@www.scandinaviahouse.org
SUMMARY:FOG SWEPT MANHATTAN — ADULT ART WORKSHOP WITH MELKORKA HELGADOTTIR
DESCRIPTION:Join us at Scandinavia House for an adult art workshop and tour of our current exhibition\, Fog Swept Cargo: Art from the Faroe Islands. Inspired by the work of artist Jóhan Martin Christiansen\, workshop participants will create a watercolor painting. Guided by teaching artist Korka\, participants will apply watercolors to watercolor paper to make an abstract triptych in a relaxed atmosphere. All materials are provided. \nPurchase Tickets
URL:https://www.scandinaviahouse.org/event/fog-swept-manhattan-adult-art-workshop-with-melkorka-helgadottir_johan_martin_christiansen/
LOCATION:Scandinavia House\, 58 Park Avenue\, New York\, NY\, 10016\, United States
ATTACH;FMTTYPE=image/png:https://www.scandinaviahouse.org/wp-content/uploads/2024/05/Johan-Martin-Christiansen.png
END:VEVENT
END:VCALENDAR