BEGIN:VCALENDAR
VERSION:2.0
PRODID:-//Scandinavia House - ECPv6.15.3//NONSGML v1.0//EN
CALSCALE:GREGORIAN
METHOD:PUBLISH
X-WR-CALNAME:Scandinavia House
X-ORIGINAL-URL:https://www.scandinaviahouse.org
X-WR-CALDESC:Events for Scandinavia House
REFRESH-INTERVAL;VALUE=DURATION:PT1H
X-Robots-Tag:noindex
X-PUBLISHED-TTL:PT1H
BEGIN:VTIMEZONE
TZID:America/New_York
BEGIN:DAYLIGHT
TZOFFSETFROM:-0500
TZOFFSETTO:-0400
TZNAME:EDT
DTSTART:20240310T070000
END:DAYLIGHT
BEGIN:STANDARD
TZOFFSETFROM:-0400
TZOFFSETTO:-0500
TZNAME:EST
DTSTART:20241103T060000
END:STANDARD
END:VTIMEZONE
BEGIN:VEVENT
DTSTART;TZID=America/New_York:20241008T190000
DTEND;TZID=America/New_York:20241008T210000
DTSTAMP:20260422T232402
CREATED:20240909T202507Z
LAST-MODIFIED:20240910T144117Z
UID:10003382-1728414000-1728421200@www.scandinaviahouse.org
SUMMARY:NO SHIP SETS OUT TO BE A SHIPWRECK | AUTHOR PANEL
DESCRIPTION:On October 8\, join us for a discussion with Joan Wickersham and Adam Davies to celebrate the release of Wickersham’s No Ship Sets Out To Be a Shipwreck\, a poetic and philosophical meditation inspired by the Swedish warship Vasa\, out now from Eastover Press! \nLaunched on August 10\, 1628\, the Swedish warship Vasa sank only minutes into its maiden voyage\, and lay forgotten underwater until it was found and raised more than 300 years later. In 2021\, ASF Fellows Joan Wickersham and Adam Davies created Scandinavia House’s first-ever digital art and literary exhibition\, Conversations With a Shipwreck\, which responded to the legendary ship through presentations of Wickersham’s poems and Davies’ photography\, exploring themes of memory and oblivion\, permanence and impermanence\, mortality and time. \nNo Ship Sets Out To Be A Shipwreck is a collection of essays and poems that are contemplative\, strange\, passionate\, funny\, and haunting that is and isn’t about a ship—a personal yet universal reckoning with mortality\, and the question of what vanishes and what endures. In today’s program\, Davies will present his photography of the Vasa followed by readings from Wickersham from the new book. Last\, they will discuss their work with the Vasa in a conversation moderated by writer\, editor\, and translator Kira Josefsson. \nRegister
URL:https://www.scandinaviahouse.org/event/no-ship-sets-out-to-be-a-shipwreck-author-panel/
LOCATION:Scandinavia House\, 58 Park Avenue\, New York\, NY\, 10016\, United States
ATTACH;FMTTYPE=image/jpeg:https://www.scandinaviahouse.org/wp-content/uploads/2024/08/Shipwreck_WEB-scaled.jpg
END:VEVENT
BEGIN:VEVENT
DTSTART;TZID=America/New_York:20241010T193000
DTEND;TZID=America/New_York:20241010T210000
DTSTAMP:20260422T232402
CREATED:20240514T185933Z
LAST-MODIFIED:20240514T202938Z
UID:10003262-1728588600-1728594000@www.scandinaviahouse.org
SUMMARY:BEETHOVEN: LOVE AND DEFIANCE
DESCRIPTION:Internationally acclaimed pianist Jeffrey Siegel returns this fall for his ever-popular Keyboard Conversations® series at Scandinavia House. Each evening comprises an informal commentary on the music and its composers\, a full performance of each work\, and a short Q & A session. The engaging format both makes friends of classical music and enriches the listening experience for avid music lovers. \nWho was Elise of “Für Elise”? Tonight’s program will consist of Beethoven’s most famous composition as well as the “à Thérèse” and “Appassionata” Sonatas! \n\n\nThanks to a generous loan by Victor Borge’s grandson Finn\, concerts will be performed on Victor Borge’s personal Steinway piano. \nPurchase Tickets
URL:https://www.scandinaviahouse.org/event/beethoven-love-and-defiance/
LOCATION:Scandinavia House\, 58 Park Avenue\, New York\, NY\, 10016\, United States
ATTACH;FMTTYPE=image/jpeg:https://www.scandinaviahouse.org/wp-content/uploads/2022/05/Photo-Jeffrey-Siegel-at-the-piano-1-scaled.jpg
END:VEVENT
END:VCALENDAR