BEGIN:VCALENDAR
VERSION:2.0
PRODID:-//Scandinavia House - ECPv6.15.3//NONSGML v1.0//EN
CALSCALE:GREGORIAN
METHOD:PUBLISH
X-ORIGINAL-URL:https://www.scandinaviahouse.org
X-WR-CALDESC:Events for Scandinavia House
REFRESH-INTERVAL;VALUE=DURATION:PT1H
X-Robots-Tag:noindex
X-PUBLISHED-TTL:PT1H
BEGIN:VTIMEZONE
TZID:America/New_York
BEGIN:DAYLIGHT
TZOFFSETFROM:-0500
TZOFFSETTO:-0400
TZNAME:EDT
DTSTART:20240310T070000
END:DAYLIGHT
BEGIN:STANDARD
TZOFFSETFROM:-0400
TZOFFSETTO:-0500
TZNAME:EST
DTSTART:20241103T060000
END:STANDARD
END:VTIMEZONE
BEGIN:VEVENT
DTSTART;TZID=America/New_York:20241203T190000
DTEND;TZID=America/New_York:20241203T210000
DTSTAMP:20260421T023443
CREATED:20241119T214724Z
LAST-MODIFIED:20241119T214724Z
UID:10002593-1733252400-1733259600@www.scandinaviahouse.org
SUMMARY:JULEBORD: THE HOLIDAY PARTY
DESCRIPTION:On December 3rd\, join us for a conversation on David Øybo’s novel Julebord: The Holiday Party\, with the author and panelists Dr. Alexander Lasareff-Mironoff and Hana Mironoff! The panel will explore Øybo’s page-turning literary whodunnit about a holiday murder in the far north of Norway. In addition to discussing rural hospitals\, surfing\, and how to survive a Julebord in Scandinavia\, they’ll also the medical topics explored in the book\, specifically FGM and PAS\, and how shortcuts in thinking can sometimes fool us. \nOn December 23\, 2019\, a body washes up on the shores of Godshus\, where a fjord meets the North Sea.  Should chief investigator James Wiley Redding of the Norwegian Police suspect that any of the doctors employed at the area’s small rural hospital? Inspired in part by Julio Cortázar’s Rayuela (Hopscotch)\, the book’s experimental approach allows readers to choose their own reading path through correlated events — as experienced by the six doctors who have wound up at this remote location\, across timelines spanning from 1960 through Julebord. And as the race is on for Investigator Redding to solve the crime\, it becomes clear that in today’s small global village we are all linked in some way — whether we want to be or not. The first book in Øybo’s Correlations Trilogy\, Julebord has been a finalist of the Canadian Book Club Awards and has been acclaimed as a “gleefully unorthodox and absorbing crime story” (Kirkus Reviews). \nRegister
URL:https://www.scandinaviahouse.org/event/julebord-the-holiday-party/
LOCATION:Scandinavia House\, 58 Park Avenue\, New York\, NY\, 10016\, United States
ATTACH;FMTTYPE=image/jpeg:https://www.scandinaviahouse.org/wp-content/uploads/2024/11/Julebord-WEB-scaled.jpg
END:VEVENT
BEGIN:VEVENT
DTSTART;TZID=America/New_York:20241204T190000
DTEND;TZID=America/New_York:20241204T210000
DTSTAMP:20260421T023443
CREATED:20241107T214737Z
LAST-MODIFIED:20241107T215013Z
UID:10003416-1733338800-1733346000@www.scandinaviahouse.org
SUMMARY:THE GIRL WITH THE NEEDLE
DESCRIPTION:On December 4\, see a special screening of The Girl with the Needle (Denmark/Poland\, 2024)\, Denmark’s selection for Best International Feature at the 97th Academy Awards! Director Magnus von Horn will be present for a film talk and Q&A after the screening. \nKaroline\, a young seamstress\, finds herself abandoned and pregnant while striving to climb out of poverty in post-WWI Copenhagen. With her husband missing and presumed dead in the war\, she’s unable to pay rent and subsequently evicted. Destitute and soon pregnant to another man\, she falls under the spell of a charismatic candy-store owner\, Dagmar Overbye\, who promises Karoline a home\, job\, and solution to her problems. But the job itself comes at a terrible cost… and soon brings her face to face with a nightmarish reality. Inspired by one of Denmark’s most infamous serial killer cases\, The Girl with the Needle (Pigen med nålen) is at once chilling and timely — offering an unvarnished look at the lengths a woman will go to in order to survive a coldly patriarchal and unforgiving society. \n“Builds to a devastating climax\, taut as piano wire” (Leslie Felperin\, The Hollywood Reporter) \n“Invested with a supremely eerie folkloric edge – a bleak historical chapter made timeless” (Robbie Collin\, The Telegraph) \nThis screening is presented in this year’s Nordic & Baltic Oscar Contenders series. See all films here.  \nPurchase Tickets \nSix-Film Package
URL:https://www.scandinaviahouse.org/event/the-girl-with-the-needle/
LOCATION:Scandinavia House\, 58 Park Avenue\, New York\, NY\, 10016\, United States
CATEGORIES:Films
ATTACH;FMTTYPE=image/jpeg:https://www.scandinaviahouse.org/wp-content/uploads/2024/11/Needle_WEB-scaled.jpg
END:VEVENT
BEGIN:VEVENT
DTSTART;TZID=America/New_York:20241205T190000
DTEND;TZID=America/New_York:20241205T210000
DTSTAMP:20260421T023443
CREATED:20241107T211955Z
LAST-MODIFIED:20241110T010225Z
UID:10003415-1733425200-1733432400@www.scandinaviahouse.org
SUMMARY:ARMAND
DESCRIPTION:On December 5\, see a special screening of Armand (Norway\, 2024)\, Norway’s official selection for Best International Feature at the 97th Academy Awards! \nElisabeth (Renate Reinsve) arrives at a parent-teacher meeting called on short notice. Her six-year-old son Armand has been accused of something — but that “something” seems unclear. As the principal\, the school nurse\, and another pair of parents become involved\, it’s revealed that a boundary has been crossed between Armand and his best friend. And as they disagree on how to handle it\, the school begins to lose control. A powerful and thought-provoking drama about the complexities of alleged sexual harassment between children\, Armand has been acclaimed as a “vivid\, creepy\, and uncomfortably funny debut” (IndieWire). \n“Resonant and haunting — and should spark plenty of post-screening discussions” (Jonathan Romney\, Screen Daily) \n\n\nPurchase Tickets
URL:https://www.scandinaviahouse.org/event/armand-screening-director-talk-2/
LOCATION:Scandinavia House\, 58 Park Avenue\, New York\, NY\, 10016\, United States
CATEGORIES:Films
ATTACH;FMTTYPE=image/jpeg:https://www.scandinaviahouse.org/wp-content/uploads/2024/11/OIP_WEB-scaled.jpg
END:VEVENT
BEGIN:VEVENT
DTSTART;TZID=America/New_York:20241207T130000
DTEND;TZID=America/New_York:20241207T143000
DTSTAMP:20260421T023443
CREATED:20241112T200256Z
LAST-MODIFIED:20241113T201620Z
UID:10003417-1733576400-1733581800@www.scandinaviahouse.org
SUMMARY:I TALK ABOUT IT ALL THE TIME | BOOK TALK
DESCRIPTION:Join us on December 7 for a book talk on Camara Lundestad Joof’s I Talk about It All the Time\, out now from University of Wisconsin Press! Translator Olivia Noble Gunn (Assistant Professor and Sverre Arestad Chair in Norwegian Studies\, UW Seattle) and moderator Monica L. Miller (Professor of Africana Studies and Chair of the Africana Studies Department at Barnard College) will be present in-person for a virtual talk with Joof\, to discuss the Norwegian performance artist and playwright’s biting\, lyrical memoir about her experiences as a queer Black Norwegian woman. This program is co-presented with the University of Washington – Scandinavian Department.  \nWhat does it mean to be Norwegian? Born in Bodø to Norwegian and Gambian parents\, Joof experiences microaggressions that belie the myth of a colorblind contemporary Scandinavia. She wrestles with the fickle palimpsest of memory\, demanding communion with her readers even as she recognizes her own exhaustion in the face of constantly being asked to educate others. \n“I regularly decide to quit talking to white people about racism\,” writes Joof. Such discussions often feel unproductive\, the occasional spark of hope coming at enormous personal cost. But not talking about it is impossible\, a betrayal of self. The book is a self-examination as well as societal indictment. It is an open challenge to readers\, to hear her as she talks about it\, all the time. \nThe speakers will discuss the story behind the writing of the memoir\, and how Joof developed its themes in her recent playscripts for Norway’s National Theater. \n“[Joof’s] collection of fragmented anecdotes is radical\, candid\, and unapologetic\, documenting with introspection the experience of being Black in a white society in which macro- and microaggressions are ubiquitous. . . . Sharp\, complex\, and lingering\, the memoir I Talk about It All the Time places its masterful compilation of devastating truths in the context of Scandinavian racism” (Foreword Reviews). \n“This gemlike book relentlessly dramatizes the particularities of Norwegian racism. The power of Joof’s observations increases in proportion to their understated precision. Her gentle voice is wholly deceptive. She slices through the delusions\, denials\, and defensiveness that distinguish the unthinkable racism of Scandinavian society” (Paul Gilroy\, English sociologist and cultural studies scholar). \nThanks to University of Washington Press & NORLA. \nRegister
URL:https://www.scandinaviahouse.org/event/i-talk-about-it-all-the-time-book-talk/
LOCATION:Scandinavia House\, 58 Park Avenue\, New York\, NY\, 10016\, United States
ATTACH;FMTTYPE=image/jpeg:https://www.scandinaviahouse.org/wp-content/uploads/2024/10/I-Talk-About-It-All-the-Time_WEB-scaled.jpg
END:VEVENT
BEGIN:VEVENT
DTSTART;TZID=America/New_York:20241207T160000
DTEND;TZID=America/New_York:20241207T173000
DTSTAMP:20260421T023443
CREATED:20241121T205117Z
LAST-MODIFIED:20241121T205117Z
UID:10003419-1733587200-1733592600@www.scandinaviahouse.org
SUMMARY:DECK 5B
DESCRIPTION:On December 7\, see a screening of the short Swedish film Deck 5B (Däck 5B)\, a candidate for Best Live Action Short Film at the 97th Academy Awards! Director Malin Ingrid Johansson will be present for a film talk following the screening. \n\nRecently divorced Mia (Alma Pöysti – Fallen Leaves) goes on the first holiday with her new love. Torn between parental responsibility and the longing to simply let go\, Mia will realize she has put herself and everyone else in an impossible situation. The 2024 Winner of Best International Short FIlm at the Toronto International Film Festival\, Deck 5B is a film about longing\, passion\, broken promises and dog hair. It is a film about the price we pay for freedom. You could also say it’s a ghost story. \nRegister
URL:https://www.scandinaviahouse.org/event/deck-5b/
LOCATION:Scandinavia House\, 58 Park Avenue\, New York\, NY\, 10016\, United States
ATTACH;FMTTYPE=image/png:https://www.scandinaviahouse.org/wp-content/uploads/2024/11/Dack5b_16x9_FotoStellanRunge_3_WEB-1.png
END:VEVENT
BEGIN:VEVENT
DTSTART;TZID=America/New_York:20241207T180000
DTEND;TZID=America/New_York:20241207T193000
DTSTAMP:20260421T023443
CREATED:20241107T214718Z
LAST-MODIFIED:20241125T204422Z
UID:10003414-1733594400-1733599800@www.scandinaviahouse.org
SUMMARY:THE LAST JOURNEY
DESCRIPTION:On December 7\, see The Last Journey (Sweden\, 2024)\, Sweden’s selection for Best International Feature at the 97th Academy Awards! Director Filip Hammar will be present for a film talk and Q&A following the screening. \nWhen Lars Hammar retired after 40 years as a French teacher in the small town of Köping\, he thought that he and his wife Tiina would enter a new phase of travels\, wine\, and experiences they’d never had time for. But as for many others\, retirement didn’t turn out how they imagined — and over the years Lars fell into a depression\, seemingly stuck at home in his Belgian leather armchair\, much to the despair of the energetic Tiina. \nIn a desperate attempt to help his father regain his zest for life\, filmmaker Filip Hammar took his dad on a surprise road trip to France\, retracing the journey they made every summer during Filip’s childhood. With the help of his best friend and fellow filmmaker Fredrik Wikingsson\, Filip aimed to invigorate his dad by reliving some of the best moments of his life. But over the course of their travels and film\, the metamorphosis Filip hoped for becomes another — a recognition of the inevitable\, and the process of aging. A film about life\, death\, friendship and a portrait of a humble man and his enduring legacy\, The Last Journey (Den sista resan) has been Sweden’s highest-grossing documentary and acclaimed as “life-affirming…humorous and heartbreaking” (Variety). \nPurchase Tickets \nSix-Film Package
URL:https://www.scandinaviahouse.org/event/the-last-journey/
LOCATION:Scandinavia House\, 58 Park Avenue\, New York\, NY\, 10016\, United States
CATEGORIES:Films
ATTACH;FMTTYPE=image/png:https://www.scandinaviahouse.org/wp-content/uploads/2024/11/10541_ALLE-GAR-RUNDT-OG-FORELSKER-SIG_still_04_swe_-2-1_WEB-1.png
END:VEVENT
BEGIN:VEVENT
DTSTART;TZID=America/New_York:20241208T150000
DTEND;TZID=America/New_York:20241208T163000
DTSTAMP:20260421T023443
CREATED:20241114T221345Z
LAST-MODIFIED:20241127T024348Z
UID:10003418-1733670000-1733675400@www.scandinaviahouse.org
SUMMARY:HOLIDAY CRAFTS: A FAMILY WORKSHOP
DESCRIPTION:Join us for Holiday Crafts: A Family Workshop on December 8! In this workshop\, children and their parents/caretakers can experience how Scandinavians prepare for the season with a holiday craft day. They’ll discover the secrets of making crafts like simple Scandinavian heart baskets\, votive luminaries and more; and experience a brief\, candlelit Saint Lucia procession. \nThis workshop is intended for children ages 1–5; reservations are strongly encouraged. \n\nPhoto by Carolina Romare/Imagebank Sweden \nPurchase Tickets
URL:https://www.scandinaviahouse.org/event/holiday-crafts-a-family-workshop/
LOCATION:Scandinavia House\, 58 Park Avenue\, New York\, NY\, 10016\, United States
ATTACH;FMTTYPE=image/jpeg:https://www.scandinaviahouse.org/wp-content/uploads/2024/11/Screenshot-2024-11-14-161816_WEB-scaled.jpg
END:VEVENT
BEGIN:VEVENT
DTSTART;TZID=America/New_York:20241208T170000
DTEND;TZID=America/New_York:20241208T183000
DTSTAMP:20260421T023443
CREATED:20241004T211422Z
LAST-MODIFIED:20241121T185100Z
UID:10003398-1733677200-1733682600@www.scandinaviahouse.org
SUMMARY:SOLD OUT: HOLIDAY CONCERT
DESCRIPTION:*This Event is now Sold Out* \nThis December\, Scandinavia House presents a festive in-person concert featuring Scandinavian and American holiday favorites as well as a traditional Saint Lucia procession\, replete with traditional gowns and glowing candles! \nLearn about the history of Lucia\, one of the most popular holidays in Sweden\, while enjoying music from members of the Swedish Church Choir in New York. Tickets to this event must be purchased in advance online.
URL:https://www.scandinaviahouse.org/event/holiday-concert-3/
LOCATION:Scandinavia House\, 58 Park Avenue\, New York\, NY\, 10016\, United States
ATTACH;FMTTYPE=image/png:https://www.scandinaviahouse.org/wp-content/uploads/2024/10/Holiday-Concert-image-for-WEB.png
END:VEVENT
END:VCALENDAR