BEGIN:VCALENDAR
VERSION:2.0
PRODID:-//Scandinavia House - ECPv6.15.3//NONSGML v1.0//EN
CALSCALE:GREGORIAN
METHOD:PUBLISH
X-ORIGINAL-URL:https://www.scandinaviahouse.org
X-WR-CALDESC:Events for Scandinavia House
REFRESH-INTERVAL;VALUE=DURATION:PT1H
X-Robots-Tag:noindex
X-PUBLISHED-TTL:PT1H
BEGIN:VTIMEZONE
TZID:America/New_York
BEGIN:DAYLIGHT
TZOFFSETFROM:-0500
TZOFFSETTO:-0400
TZNAME:EDT
DTSTART:20250309T070000
END:DAYLIGHT
BEGIN:STANDARD
TZOFFSETFROM:-0400
TZOFFSETTO:-0500
TZNAME:EST
DTSTART:20251102T060000
END:STANDARD
END:VTIMEZONE
BEGIN:VEVENT
DTSTART;TZID=America/New_York:20250430T190000
DTEND;TZID=America/New_York:20250430T210000
DTSTAMP:20260420T165646
CREATED:20250319T164834Z
LAST-MODIFIED:20250319T195342Z
UID:10004762-1746039600-1746046800@www.scandinaviahouse.org
SUMMARY:THE RIOT
DESCRIPTION:Celebrate International Workers’ Day with The Riot\, a historical action drama exploring the origins of the labor movement and workers’ rights in Norway\, on April 30! \nDirected by Academy Award-nominated director Nils Gaup (The Last King\, 2016)\, The Riot tells the story of the struggle against oppression in the mining town of Sulitjelma\, called Sulis\, at the beginning of the 20th century. In this Wild West of the Nordic countries ruled by a mining company\, slave labor and the brutality of capitalism run rampant\, as workers struggle under inhuman conditions in the dark and dangerous mines. When 16-year-old Konrad arrives\, his only goal is to return home to Sweden\, having worked as a farmhand to support his widowed mother and sister. But as a ruthless new foreman named Wennström makes increasingly risky demands\, Konrad must choose whether to stand with other  suppressed workers to revolt against the mine. \nA powerful film about the dream of a better life\, the compromises and exploitation of capitalism\, trust and the fight for justice\, The Riot stars Otto Fahlgren (Beartown) and Simon J. Berger (Margrete – Queen of the North; Exit) in the true story of one of Norway’s most tumultuous\, nation-defining events (Norway/Sweden\, 2022). \n“Vividly portrays how the relentless pursuit of wealth\, power and prestige can erode basic human values and compassion” (Beat Magazine)
URL:https://www.scandinaviahouse.org/event/the-riot/
LOCATION:Scandinavia House\, 58 Park Avenue\, New York\, NY\, 10016\, United States
ATTACH;FMTTYPE=image/jpeg:https://www.scandinaviahouse.org/wp-content/uploads/2025/03/Riot_Web2-scaled.jpg
END:VEVENT
BEGIN:VEVENT
DTSTART;TZID=America/New_York:20250501T190000
DTEND;TZID=America/New_York:20250501T203000
DTSTAMP:20260420T165646
CREATED:20250402T205642Z
LAST-MODIFIED:20250422T153210Z
UID:10004775-1746126000-1746131400@www.scandinaviahouse.org
SUMMARY:GULLAT\, GULDALIT: TO HEAR\, TO LISTEN AND TO ACT ACCORDINGLY
DESCRIPTION:Join professor of literature at the Sámi University in Norway\, Harald Gaski\, and American visual artist of Sámi descent\, Tia Keobounpheng\, for a conversation about Sámi values\, views\, and understandings through the lens of “Gullat\, guldalit”—to hear\, to listen and to act accordingly—in literary and visual art. This program is presented in coordination with Nordic Echoes: Tradition in Contemporary Art\, the first major traveling exhibition of contemporary Nordic folk arts and cultural traditions from the Upper Midwest. \n  \n 
URL:https://www.scandinaviahouse.org/event/gullat-guldalit/
LOCATION:Scandinavia House\, 58 Park Avenue\, New York\, NY\, 10016\, United States
ATTACH;FMTTYPE=image/png:https://www.scandinaviahouse.org/wp-content/uploads/2025/04/Gullat-Guldalit-web.png
END:VEVENT
BEGIN:VEVENT
DTSTART;TZID=America/New_York:20250501T193000
DTEND;TZID=America/New_York:20250501T210000
DTSTAMP:20260420T165646
CREATED:20240514T185445Z
LAST-MODIFIED:20240514T203239Z
UID:10003265-1746127800-1746133200@www.scandinaviahouse.org
SUMMARY:A FEW OF OUR FAVORITE THINGS
DESCRIPTION:Internationally acclaimed pianist Jeffrey Siegel returns this fall for his ever-popular Keyboard Conversations® series at Scandinavia House. Each evening comprises an informal commentary on the music and its composers\, a full performance of each work\, and a short Q & A session. The engaging format both makes friends of classical music and enriches the listening experience for avid music lovers. \nTonight’s program will consist of well-loved masterpieces by Grieg\, Rachmaninoff\, Debussy and Chopin! \n\n\nThanks to a generous loan by Victor Borge’s grandson Finn\, concerts will be performed on Victor Borge’s personal Steinway piano. \nPurchase Tickets
URL:https://www.scandinaviahouse.org/event/a-few-of-my-favorite-things/
LOCATION:Scandinavia House\, 58 Park Avenue\, New York\, NY\, 10016\, United States
ATTACH;FMTTYPE=image/jpeg:https://www.scandinaviahouse.org/wp-content/uploads/2022/05/Photo-Jeffrey-Siegel-at-the-piano-1-scaled.jpg
END:VEVENT
BEGIN:VEVENT
DTSTART;TZID=America/New_York:20250503T110000
DTEND;TZID=America/New_York:20250503T140000
DTSTAMP:20260420T165646
CREATED:20250325T210829Z
LAST-MODIFIED:20250408T164824Z
UID:10004769-1746270000-1746280800@www.scandinaviahouse.org
SUMMARY:IT STARTS WITH CIRCLES
DESCRIPTION:Explore the world of geometry with artist\, Tia Keobounpheng. In this workshop\, you will learn more about the significant role geometry plays in Tia’s mixed-media artwork and move through the 4th grade geometry lesson (during pandemic distance learning) that changed the course of her career. With pencil\, compass\, and ruler you will build repeating geometric patterns of squares\, triangles\, and hexagons by first starting with circles. Play with color to complete and accentuate your own distinct pattern!
URL:https://www.scandinaviahouse.org/event/it-starts-with-circles/
LOCATION:Scandinavia House\, 58 Park Avenue\, New York\, NY\, 10016\, United States
ATTACH;FMTTYPE=image/jpeg:https://www.scandinaviahouse.org/wp-content/uploads/2025/03/New-Tia-Detail-Threads-No.-10_WEB-scaled.jpg
END:VEVENT
END:VCALENDAR