BEGIN:VCALENDAR
VERSION:2.0
PRODID:-//Scandinavia House - ECPv6.15.3//NONSGML v1.0//EN
CALSCALE:GREGORIAN
METHOD:PUBLISH
X-ORIGINAL-URL:https://www.scandinaviahouse.org
X-WR-CALDESC:Events for Scandinavia House
REFRESH-INTERVAL;VALUE=DURATION:PT1H
X-Robots-Tag:noindex
X-PUBLISHED-TTL:PT1H
BEGIN:VTIMEZONE
TZID:America/New_York
BEGIN:DAYLIGHT
TZOFFSETFROM:-0500
TZOFFSETTO:-0400
TZNAME:EDT
DTSTART:20250309T070000
END:DAYLIGHT
BEGIN:STANDARD
TZOFFSETFROM:-0400
TZOFFSETTO:-0500
TZNAME:EST
DTSTART:20251102T060000
END:STANDARD
END:VTIMEZONE
BEGIN:VEVENT
DTSTART;TZID=America/New_York:20250701T183000
DTEND;TZID=America/New_York:20250701T210000
DTSTAMP:20260425T163357
CREATED:20250624T171026Z
LAST-MODIFIED:20250624T171117Z
UID:10004902-1751394600-1751403600@www.scandinaviahouse.org
SUMMARY:WINE & OIL EXPERIENCE | BJÖRK CAFÉ NYC & SOMM IN THE GROVE
DESCRIPTION:Join us for an unforgettable evening of Nordic elegance and flavor at Björk Café at Scandinavia House! In this exclusive collaboration between Somm In The Grove and Chef Ulrika (founder and chef of Björk)\, a five-course dinner will take you on a culinary journey through Scandinavia — where modern Nordic cuisine meets carefully selected wines and handcrafted olive oils from Spain and Italy. Each dish is rooted in Scandinavian tradition\, and finished with hand-harvested and sustainably sourced olive oils\, highlighting purity\, depth\, and seasonal ingredients. Guided by Certified Wine & Olive Oil Sommelier Sara Jimenez of Somm In The City\, the evening will showcase the art of pairing wine with olive oil-forward dishes in a warm\, intimate setting. \nSeating is limited—reserve now to enjoy an inspired evening of flavor\, culture\, and craftsmanship! \n$105 pp \nReservations \n  \n \n 
URL:https://www.scandinaviahouse.org/event/wine-oil-experience-with-bjork-cafe-nyc-somm-in-the-grove/
LOCATION:Björk Cafe & Bistro at Scandinavia House\, 58 Park Ave\, New York\, NY\, 10016\, United States
ATTACH;FMTTYPE=image/jpeg:https://www.scandinaviahouse.org/wp-content/uploads/2025/06/Bjork-Wine-Event-Web-scaled.jpg
END:VEVENT
BEGIN:VEVENT
DTSTART;TZID=America/New_York:20250705T120000
DTEND;TZID=America/New_York:20250705T150000
DTSTAMP:20260425T163357
CREATED:20250529T185143Z
LAST-MODIFIED:20250529T190132Z
UID:10004887-1751716800-1751727600@www.scandinaviahouse.org
SUMMARY:PASTEL CHALK ON PAPER
DESCRIPTION:This series offers a gentle introduction to the tactile qualities of materials such as paper\, pastel\, paint\, graphite pencil\, and ink. Participants will explore the unique characteristics of various tools and surfaces\, learning simple techniques to get started and discover inspiration—whether drawn from the inner world or the world around us. The focus is on the process of making: approaching art as a meditative\, exploratory practice. Together\, we’ll experiment\, play\, and pay close attention to what unfolds on the page\, moment by moment. There are no expectations for finished pieces or specific outcomes —the class itself is the experience and the goal. Each session will close with a supportive group reflection\, where we’ll share and appreciate each other’s progress\, process\, and discoveries. \nIn this course\, students will explore and experiment with using various pastel chalks on paper. \nThe series can be experienced as a complete progression or as individual\, standalone classes. Participants are welcome to sign up for the full series or choose single sessions—there is no requirement to attend every class.
URL:https://www.scandinaviahouse.org/event/pastel-chalk-on-paper/
LOCATION:Scandinavia House\, 58 Park Avenue\, New York\, NY\, 10016\, United States
ATTACH;FMTTYPE=image/jpeg:https://www.scandinaviahouse.org/wp-content/uploads/2025/05/Pastels-Maregrethe-ForWeb-scaled.jpg
END:VEVENT
END:VCALENDAR