BEGIN:VCALENDAR
VERSION:2.0
PRODID:-//Scandinavia House - ECPv6.15.3//NONSGML v1.0//EN
CALSCALE:GREGORIAN
METHOD:PUBLISH
X-WR-CALNAME:Scandinavia House
X-ORIGINAL-URL:https://www.scandinaviahouse.org
X-WR-CALDESC:Events for Scandinavia House
REFRESH-INTERVAL;VALUE=DURATION:PT1H
X-Robots-Tag:noindex
X-PUBLISHED-TTL:PT1H
BEGIN:VTIMEZONE
TZID:America/New_York
BEGIN:DAYLIGHT
TZOFFSETFROM:-0500
TZOFFSETTO:-0400
TZNAME:EDT
DTSTART:20250309T070000
END:DAYLIGHT
BEGIN:STANDARD
TZOFFSETFROM:-0400
TZOFFSETTO:-0500
TZNAME:EST
DTSTART:20251102T060000
END:STANDARD
END:VTIMEZONE
BEGIN:VEVENT
DTSTART;TZID=America/New_York:20250929T180000
DTEND;TZID=America/New_York:20250929T193000
DTSTAMP:20260421T210109
CREATED:20250909T200728Z
LAST-MODIFIED:20250909T200728Z
UID:10005390-1759168800-1759174200@www.scandinaviahouse.org
SUMMARY:SWEDISH 1.1 — ENROLLMENT OPEN
DESCRIPTION:Learn the Nordic languages in classes offered at Scandinavia House\, held in-person and virtually! This course is for absolute beginners. Classes take place on Mondays from 6–7:30 PM beginning September 22 through December 8. \nIn this course students will learn vocabulary\, the very basics of Swedish structure and pronunciation while also discussing some quirks of Swedish life. No prerequisites necessary. This class will take place as hybrid learning\, with classes offered at Scandinavia House and online via Zoom. \nAt the end of the semester students will know: \n• Sentence structure in statements and questions\n• How to greet people\n• Numbers and how to tell time \nAnd be able to: \n• Talk about themselves and what they do in their day \nAnd be able to: \n• Talk about themselves and what they do in their day \nThis hybrid class will be held both in-person and via Zoom; in-person attendance for the first four classes is highly recommended. \n*Please note that there will be no class on October 13\, Indigenous People’s Day.* \nRegister
URL:https://www.scandinaviahouse.org/event/swedish-1-1-fall-2025/2025-09-29/
LOCATION:Scandinavia House\, 58 Park Avenue\, New York\, NY\, 10016\, United States
ATTACH;FMTTYPE=image/jpeg:https://www.scandinaviahouse.org/wp-content/uploads/2025/05/linus-mimietz-QYI__0vehUs-unsplash-scaled.jpg
END:VEVENT
BEGIN:VEVENT
DTSTART;TZID=America/New_York:20250929T193500
DTEND;TZID=America/New_York:20250929T213500
DTSTAMP:20260421T210109
CREATED:20250909T200115Z
LAST-MODIFIED:20250909T200355Z
UID:10005406-1759174500-1759181700@www.scandinaviahouse.org
SUMMARY:SWEDISH 1.2 — ENROLLMENT OPEN
DESCRIPTION:Learn the Nordic languages in classes offered at Scandinavia House\, held in-person and virtually! This course builds upon Swedish 1.1 or its equivalent. Classes take place on Mondays from 7:35–9:35 PM beginning September 22 through December 8. \nStudents will learn sentence structure in sentences with more than one verb\, placement of adverbs\, plural endings\, conjugation of adjectives\, objective and possessive pronouns\, and the past tense. Various cultural aspects will also be highlighted during the course. This class will take place as hybrid learning\, with classes offered at Scandinavia House and online via Zoom. \nAt the end of the semester students will know: \n• How to structure sentences with more than one verb\n• The conjugation of adjectives\n• The past tense \nAnd be able to: \n• Talk about themselves and what they do in their day \nThis hybrid class will be held both in-person and via Zoom; in-person attendance for the first four classes is highly recommended. \n*Please note that there will be no class on October 13\, Indigenous People’s Day.* \nRegister
URL:https://www.scandinaviahouse.org/event/swedish-1-2-fall-2025/2025-09-29/
LOCATION:Scandinavia House\, 58 Park Avenue\, New York\, NY\, 10016\, United States
ATTACH;FMTTYPE=image/jpeg:https://www.scandinaviahouse.org/wp-content/uploads/2016/07/language-courses-swedish-5.jpg
END:VEVENT
END:VCALENDAR