BEGIN:VCALENDAR
VERSION:2.0
PRODID:-//Scandinavia House - ECPv6.15.3//NONSGML v1.0//EN
CALSCALE:GREGORIAN
METHOD:PUBLISH
X-ORIGINAL-URL:https://www.scandinaviahouse.org
X-WR-CALDESC:Events for Scandinavia House
REFRESH-INTERVAL;VALUE=DURATION:PT1H
X-Robots-Tag:noindex
X-PUBLISHED-TTL:PT1H
BEGIN:VTIMEZONE
TZID:America/New_York
BEGIN:DAYLIGHT
TZOFFSETFROM:-0500
TZOFFSETTO:-0400
TZNAME:EDT
DTSTART:20260308T070000
END:DAYLIGHT
BEGIN:STANDARD
TZOFFSETFROM:-0400
TZOFFSETTO:-0500
TZNAME:EST
DTSTART:20261101T060000
END:STANDARD
END:VTIMEZONE
BEGIN:VEVENT
DTSTART;TZID=America/New_York:20260113T180000
DTEND;TZID=America/New_York:20260113T190000
DTSTAMP:20260423T183041
CREATED:20251121T195820Z
LAST-MODIFIED:20251121T201825Z
UID:10005489-1768327200-1768330800@www.scandinaviahouse.org
SUMMARY:NORDIC BOOK CLUB ONLINE | THE SISTERS
DESCRIPTION:Read and discuss literature with our Nordic Book Club Online! Nordic Book Club meets monthly via Zoom to discuss contemporary literature in translation. On January 13\, 2026\, we’ll be discussing Jonas Hassen Khemiri’s addictively entertaining family saga The Sisters. \nMeet the Mikkola sisters: Ina\, Evelyn\, and Anastasia. Their mother is a Tunisian carpet seller\, their father a mysterious Swede who left them when they were young. Ina is tall\, serious\, a compulsive organizer. Evelyn is dreamy\, magnetic\, a smooth talker. And Anastasia is moody\, chaotic\, a shape-shifting presence\, quick to anger. \nIna meets her future husband when she’s dragged to a New Year’s rave by her sisters\, only to suffer the ultimate betrayal. Evelyn drifts through life before embarking on a wild career as an actress. And Anastasia runs off to Tunisia\, where she falls in love with a woman who\, years later\, will transform her life. \nFollowing the sisters from afar is Jonas\, the son of a Swedish mother and a Tunisian father. Over the course of three decades\, his life intersects with the sisters\, from a chance encounter in Tunis to the scene of a fighter jet crash in Stockholm. When Evelyn disappears on a trip to New York\, Jonas manages to track her down—and helps her to break the curse that has been looming over the Mikkolas for decades. In the process\, a shocking revelation changes everything about who they think they are. \nNarrated in six parts\, each spanning a period ranging from a year to a day to a single minute\, Jonas Hassen Khemiri’s The Sisters is a big\, vivid family story of the highest order—an tour de force that has been longlisted for prizes including the 2025 National Book Award for Fiction and the Andrew Carnegie Medal for Excellence in Fiction. \n\nThe Sisters is available in hardcover\, paperback\, e-book and digital audio. \nRegister
URL:https://www.scandinaviahouse.org/event/nordic-book-club-online-the-sisters/
LOCATION:NY
ATTACH;FMTTYPE=image/jpeg:https://www.scandinaviahouse.org/wp-content/uploads/2025/11/Sisters-Book-Club_WEB-scaled.jpg
END:VEVENT
BEGIN:VEVENT
DTSTART;TZID=America/New_York:20260114T173000
DTEND;TZID=America/New_York:20260114T180000
DTSTAMP:20260423T183041
CREATED:20250923T215109Z
LAST-MODIFIED:20251114T213048Z
UID:10005420-1768411800-1768413600@www.scandinaviahouse.org
SUMMARY:GALLERY TOURS | A TIME FOR EVERYTHING
DESCRIPTION:On view from October 18\, 2025 to February 14\, 2026 at Scandinavia House\, A Time for Everything\, a group exhibition of internationally acclaimed Nordic artists — all of whom have presented work in the Scandinavia House Galleries over the past 25 years — will underscore the vision of the Scandinavia House Galleries as a steward for new and established Nordic voices in the contemporary artistic landscape\, and for promoting the exchange of ideas and culture between the United States and Nordic region. \nIn this guided tour by Eve O’Shea\, ASF’s Exhibitions and Cultural Programs Assistant and assistant curator of the exhibition\, learn about the artists in this exhibition and their works. \nThese free\, 35-minute public tours meet in the Gallery elevator lobby. Gallery tours are subject to change; please check with the Scandinavia House front desk or email info@amscan.org. \nRegister
URL:https://www.scandinaviahouse.org/event/gallery-tours-a-time-for-everything/2026-01-14/
LOCATION:Scandinavia House\, 58 Park Avenue\, New York\, NY\, 10016\, United States
ATTACH;FMTTYPE=image/jpeg:https://www.scandinaviahouse.org/wp-content/uploads/2025/09/A-Time-for-Everything-Web-Banner-UPDATED-9.18-scaled.jpg
END:VEVENT
BEGIN:VEVENT
DTSTART;TZID=America/New_York:20260114T190000
DTEND;TZID=America/New_York:20260114T213000
DTSTAMP:20260423T183041
CREATED:20260106T211222Z
LAST-MODIFIED:20260108T171424Z
UID:10005583-1768417200-1768426200@www.scandinaviahouse.org
SUMMARY:SOLD OUT — SENTIMENTAL VALUE | NORDIC & BALTIC OSCAR CONTENDERS
DESCRIPTION:*This event is now sold out.* \nOn January 14\, Scandinavia House presents a special screening featuring Norway’s official entry for Best International Feature Film at the 98th Academy Awards: the poignant drama Sentimental Value\, followed by a filmmaker panel featuring director Joachim Trier! \nSentimental Value\nDir. Joachim Trier | Norway\, 2025 | 134 min\nIn Norwegian with English subtitles \n“The best film of the year” (Vogue) —Sisters Nora (Renate Reinsve) and Agnes (Inga Ibsdotter Lilleaas) reunite with their estranged father\, the charismatic Gustav (Stellan Skarsgård\, in a remarkable performance)\, a once-renowned director who offers stage actress Nora a role in what he hopes will be his comeback film. When she declines\, Gustav casts an up-and-coming young Hollywood star (Elle Fanning) instead\, forcing the family to confront long-buried tensions as the striving outsider becomes entangled in their fraught dynamic. \nWith Sentimental Value\, Danish-Norwegian auteur Joachim Trier follows his critically acclaimed The Worst Person in the World (2021) with a magnetic comedy-drama about legacy\, art\, and the performances that bind—and divide—families. Trier’s insightful and captivating adult drama\, which won the Grand Prix at the 2025 Cannes Film Festival\, furthers the writer-director’s piercing exploration of the frayed ties that bind us to one another and to our creative selves. \n“A transcendent\, moving masterpiece” (IndieWire) \nRegister \n 
URL:https://www.scandinaviahouse.org/event/sentimental-value/
LOCATION:Scandinavia House\, 58 Park Avenue\, New York\, NY\, 10016\, United States
CATEGORIES:Films
ATTACH;FMTTYPE=image/jpeg:https://www.scandinaviahouse.org/wp-content/uploads/2025/12/MCDSEVA_EC019-copy-scaled.jpg
END:VEVENT
BEGIN:VEVENT
DTSTART;TZID=America/New_York:20260115T173000
DTEND;TZID=America/New_York:20260115T200000
DTSTAMP:20260423T183041
CREATED:20251204T154717Z
LAST-MODIFIED:20251211T172608Z
UID:10005500-1768498200-1768507200@www.scandinaviahouse.org
SUMMARY:WATER-BASED PAINTING
DESCRIPTION:This series offers a gentle introduction to the tactile qualities of materials such as paper\, pastel\, paint\, graphite pencil\, and ink. Participants will explore the unique characteristics of various tools and surfaces\, learning simple techniques to get started and discover inspiration—whether drawn from the inner world or the world around us. The focus is on the process of making: approaching art as a meditative\, exploratory practice. Together\, we’ll experiment\, play\, and pay close attention to what unfolds on the page\, moment by moment. There are no expectations for finished pieces or specific outcomes —the class itself is the experience and the goal. Each session will close with a supportive group reflection\, where we’ll share and appreciate each other’s progress\, process\, and discoveries. \nIn this course\, students will explore and experiment with water-based colored paint and water using brushes on paper. \nThe series can be experienced as a complete progression or as individual\, standalone classes. Participation is limited to 12 students. \nPurchase Tickets
URL:https://www.scandinaviahouse.org/event/water-based-painting-2/
LOCATION:Scandinavia House\, 58 Park Avenue\, New York\, NY\, 10016\, United States
ATTACH;FMTTYPE=image/jpeg:https://www.scandinaviahouse.org/wp-content/uploads/2025/12/Watercolor-Banner.jpg
END:VEVENT
BEGIN:VEVENT
DTSTART;TZID=America/New_York:20260115T183000
DTEND;TZID=America/New_York:20260115T193000
DTSTAMP:20260423T183041
CREATED:20251217T170726Z
LAST-MODIFIED:20251217T180340Z
UID:10005510-1768501800-1768505400@www.scandinaviahouse.org
SUMMARY:NORDIC IN NYC\, ESTABLISHED AND NEW(ER)
DESCRIPTION:Organized by ASF with Susan Chin of DesignConnects\, in collaboration with the American Institute of Architects New York\, and American Institute of Architects Continental Europe\, Nordic American Connections: Conversations on Architecture and Design is a 4-part series that presents prominent architects\, critics and scholars to reflect on Scandinavian and Nordic design’s enduring impact in shaping modern American design since the 19th century. \nWith renewed interest in the Nordic tradition and its resilient building strategies for climate action and wellbeing\, contemporary architects and designers\, both Nordic and American\, remain strong contributors to the American landscape with award-winning projects reflecting cross cultural influences. The series continues in 2026 on Thursday\, January 15\, 2026\, with Nordic in NYC\, Established and New(er) at Scandinavia House in New York City. The panel will highlight leading architecture and design firms in New York City\, representing a unique vision while sharing a commitment to values that guide contemporary architecture. These firms embody the continuing influence of Nordic design principles —centering human comfort\, social equity and welfare\, environmental responsibility\, natural material and handcraft— within a global context. \nParticipants include Matthew Lister Managing Director at Gehl Americas\, Anne-Rachel Schiffmann\, Architect and Interior Architecture Discipline Director out of Snøhetta’s New York office\, and Steven Holl of STEVEN HOLL ARCHITECTS. \nTickets are now available HERE. \nThe series continues this spring with discussions on March 19\, and May 14\, 2026. Purchase a series pass here.  \nAIANY Continuing Education Credits are approved for this session; attendees receive 1.5 Learning Units | 1.5 HSW credits. To receive the credits\, please ask to sign the AIANY student form at check-in.  \n\n \n 
URL:https://www.scandinaviahouse.org/event/nordic-in-nyc-established-and-newer/
LOCATION:Scandinavia House\, 58 Park Avenue\, New York\, NY\, 10016\, United States
ATTACH;FMTTYPE=image/jpeg:https://www.scandinaviahouse.org/wp-content/uploads/2025/12/January-15_Banner.jpg
END:VEVENT
BEGIN:VEVENT
DTSTART;TZID=America/New_York:20260117T120000
DTEND;TZID=America/New_York:20260117T140000
DTSTAMP:20260423T183041
CREATED:20251106T220608Z
LAST-MODIFIED:20260108T184902Z
UID:10005577-1768651200-1768658400@www.scandinaviahouse.org
SUMMARY:SOLD OUT — YOUR FIRST KNITTING PROJECT
DESCRIPTION:*This program is now sold out.* \nNow that you’ve learned the basics of knitting – or you want to hone your skills – you are invited to join us for a weekly knitting group in January. You’ll choose from three simple patterns\, choose and buy your own yarn\, needles\, and notions\, and we’ll get started on the first day! \nJoin a small group to make something from start to finish\, with guidance and feedback from experienced knitter Hilary Snell. Enjoy stretching your brain with a new skill while engaging in the social bonding that only crafts can provide. Plus\, there will be snacks! Class size is limited to 12 people. \nBefore arriving for class\, please choose and purchase the according materials for your respective project. (Projects are pictured on banner image) PLEASE NOTE: Students will receive 10% off their purchase at Knitty City (208 West 79th Street) upon showing their Scandinavia House class receipt. \nWrist warmers: Chunky wool yarn – 110 yards. Color(s) of your choice. US size 11 straight needles. \nChunky hat: Approximately 100 yards of any chunky wool yarn. Color(s) of your choice. US size 10 circular needle 16 inches long (from tip to tip) and 4 double pointed bamboo needles US size 10. \nWashcloth: Any DK weight cotton yarn. US size 4 straight needles. \nPS. Chunky yarn is also called bulky yarn! \nStudents should also bring a tapestry needle\, scissors and some kind of bag to carry their project back and forth from home. \nABOUT THE INSTRUCTOR: \nHilary Snell\, a longtime visitor services staff member of Scandinavia House\, is of English\, Scottish\, and Irish descent\, and loves everything about Nordic culture. She was taught to knit by her grandmother and mother when she was eight years old and took it up again in her late 20s\, and has been knitting ever since. She enjoys sharing her love of the craft and of fiber arts in general. See her work at: https://www.instagram.com/lockwoodknits/
URL:https://www.scandinaviahouse.org/event/your-first-knitting-project-learn-to-knit-with-hilary-snell-2/2026-01-17/
LOCATION:Scandinavia House\, 58 Park Avenue\, New York\, NY\, 10016\, United States
ATTACH;FMTTYPE=image/jpeg:https://www.scandinaviahouse.org/wp-content/uploads/2025/11/Knit-workshops-Banner-Jan.jpg
END:VEVENT
END:VCALENDAR