BEGIN:VCALENDAR
VERSION:2.0
PRODID:-//Scandinavia House - ECPv6.15.3//NONSGML v1.0//EN
CALSCALE:GREGORIAN
METHOD:PUBLISH
X-ORIGINAL-URL:https://www.scandinaviahouse.org
X-WR-CALDESC:Events for Scandinavia House
REFRESH-INTERVAL;VALUE=DURATION:PT1H
X-Robots-Tag:noindex
X-PUBLISHED-TTL:PT1H
BEGIN:VTIMEZONE
TZID:America/New_York
BEGIN:DAYLIGHT
TZOFFSETFROM:-0500
TZOFFSETTO:-0400
TZNAME:EDT
DTSTART:20260308T070000
END:DAYLIGHT
BEGIN:STANDARD
TZOFFSETFROM:-0400
TZOFFSETTO:-0500
TZNAME:EST
DTSTART:20261101T060000
END:STANDARD
END:VTIMEZONE
BEGIN:VEVENT
DTSTART;TZID=America/New_York:20260323T174500
DTEND;TZID=America/New_York:20260323T201500
DTSTAMP:20260420T094137
CREATED:20260218T222818Z
LAST-MODIFIED:20260321T132148Z
UID:10005692-1774287900-1774296900@www.scandinaviahouse.org
SUMMARY:INTERGENERATIONAL ART WITH MARGRETHE AANESTAD
DESCRIPTION:In this two and a half hour class\, kids and their accompanying adults will dive into the exciting world of color through hands-on exploration and playful experimentation. Using water-based paints\, water\, and a variety of brushes on paper\, participants will discover how colors move\, blend\, and transform. We will begin by working with the three primary colors—red\, blue\, and yellow—and explore how they interact. Through guided mixing\, students will create secondary colors and experiment with making lighter and darker shades by adjusting the amount of water and paint. \nAlong the way\, we’ll notice how colors can feel warm or cool\, bright or soft\, bold or subtle. Participants will explore the unique characteristics of various tools and surfaces\, learning simple techniques to get started and discover inspiration—whether drawn from the inner world or the world around us. The focus is on the process of making: approaching art as a meditative\, exploratory practice. Together\, we’ll experiment\, play\, and pay close attention to what unfolds on the page\, moment by moment. There are no expectations for finished pieces or specific outcomes —the class itself is the experience and the goal. Each session will close with a supportive group reflection\, where we’ll share and appreciate each other’s progress\, process\, and discoveries. \nThis workshop is designed for ages 10 and up and accompanying adults. \nPurchase tickets
URL:https://www.scandinaviahouse.org/event/intergenerational-art-with-margrethe-aanestad/
LOCATION:Scandinavia House\, 58 Park Avenue\, New York\, NY\, 10016\, United States
ATTACH;FMTTYPE=image/jpeg:https://www.scandinaviahouse.org/wp-content/uploads/2026/02/intergenerational-web-scaled_2.jpg
END:VEVENT
BEGIN:VEVENT
DTSTART;TZID=America/New_York:20260325T190000
DTEND;TZID=America/New_York:20260325T210000
DTSTAMP:20260420T094137
CREATED:20251104T185715Z
LAST-MODIFIED:20260312T191313Z
UID:10005454-1774465200-1774472400@www.scandinaviahouse.org
SUMMARY:FACING WAR | NEW NORDIC CINEMA
DESCRIPTION:“Gripping…with remarkable access”—On March 25\, Scandinavia House presents a special screening of the harrowing political documentary Facing War! \nWith a unique inside look at NATO’s leadership at the brink of geopolitical crisis\, Facing War follows the day-to-day tenure of Secretary General Jens Stoltenberg as he nears retirement. As Russia’s war in Ukraine rages on\, then U.S. President Joe Biden persuades Stoltenberg to extend his tenure as NATO Secretary General for one final year. During a visit to Kyiv\, Stoltenberg vows that the Alliance will stand by Ukraine “for as long as it takes.” But as Western support falters and divisions among allies deepen\, this promise is increasingly at risk. With NATO decisions requiring unanimous approval\, Stoltenberg must navigate conflicts and rally member nations behind him. \nWith unprecedented access to NATO’s inner sanctum\, Facing War takes viewers inside the high-stakes power struggles between global leaders like Biden\, Ukrainian President Volodymyr Zelensky\, Turkish President Recep Tayyip Erdoğan\, and Hungarian Prime Minister Viktor Orbán. The film chronicles the delicate art of diplomacy in a time when safety and democracy are at stake\, asking the question on everyone’s mind: can Stoltenberg keep his promise? \nRegister
URL:https://www.scandinaviahouse.org/event/facing-war/
LOCATION:Scandinavia House\, 58 Park Avenue\, New York\, NY\, 10016\, United States
CATEGORIES:Films
ATTACH;FMTTYPE=image/jpeg:https://www.scandinaviahouse.org/wp-content/uploads/2025/11/thumbnail_FacingWar_StoltenbergZelensky@Doxdivicion-1-scaled.jpg
END:VEVENT
BEGIN:VEVENT
DTSTART;VALUE=DATE:20260326
DTEND;VALUE=DATE:20260406
DTSTAMP:20260420T094137
CREATED:20260313T163429Z
LAST-MODIFIED:20260313T163429Z
UID:10005709-1774483200-1775433599@www.scandinaviahouse.org
SUMMARY:MIDTOWN CULTURAL ALLIANCE OPEN HOUSE
DESCRIPTION:Inaugurated in September 2025\, the Midtown Cultural Alliance (MCA) is a presenters’ union founded by Japan Society\, The Korea Society\, Korean Cultural Center\, L’Alliance New York\, and Scandinavia House to highlight Midtown NYC as a global cultural destination. \nFollowing the successful launch of the inaugural Open House events in September 2025\, MCA’s second cross-organizational Open House beginning March 26 will offer both free and paid programming spread across all five partner organizations! \nUpon attendance to any one event at any of the five organizations during this Open House\, a participant will receive a special “passport” and collect a stamp. Once collecting three stamps on their passport\, a participant may then redeem a free gift from up to three different organizations of their choice. \nLearn More \n 
URL:https://www.scandinaviahouse.org/event/midtown-cultural-alliance-open-house/
LOCATION:Scandinavia House\, 58 Park Avenue\, New York\, NY\, 10016\, United States
CATEGORIES:Films
ATTACH;FMTTYPE=image/jpeg:https://www.scandinaviahouse.org/wp-content/uploads/2026/03/mcaweb-scaled.jpg
END:VEVENT
BEGIN:VEVENT
DTSTART;TZID=America/New_York:20260326T190000
DTEND;TZID=America/New_York:20260326T210000
DTSTAMP:20260420T094137
CREATED:20260220T174735Z
LAST-MODIFIED:20260220T174735Z
UID:10005687-1774551600-1774558800@www.scandinaviahouse.org
SUMMARY:THE GOOD TRAITOR
DESCRIPTION:On March 26\, Scandinavia House is proud to present the 2020 film The Good Traitor (Vores mand I Amerika)! \nApril 9\, 1940: Denmark is invaded by Nazi Germany with demands for immediate and unconditional surrender. The government surrenders after a few hours and begins cooperating with the Nazis. On the other side of the Atlantic is Denmark’s ambassador to the United States of America\, a daredevil and a man of the world — Henrik Kauffmann\, who is willing to put everything on the line. He refuses to follow the German directives and engineers a rebellious plan to defeat Hitler and give the Danish people their freedom back. \nBased on a true story and starring Ulrich Thomsen\, Burn Gorman\, and Zoë Tapper\, The Good Traitor explores the actions of Ambassador Kauffmann’s unsung heroism in WWII history. \nPurchase Tickets
URL:https://www.scandinaviahouse.org/event/the-good-traitor/
LOCATION:NY
CATEGORIES:Films
ATTACH;FMTTYPE=image/jpeg:https://www.scandinaviahouse.org/wp-content/uploads/2021/02/voresmand2.jpg
END:VEVENT
BEGIN:VEVENT
DTSTART;TZID=America/New_York:20260327T190000
DTEND;TZID=America/New_York:20260327T210000
DTSTAMP:20260420T094137
CREATED:20260129T182703Z
LAST-MODIFIED:20260217T200747Z
UID:10005668-1774638000-1774645200@www.scandinaviahouse.org
SUMMARY:DEAF (SORDA) | LUX AUDIENCE AWARDS 2026
DESCRIPTION:See five of the shortlisted finalists for this year’s LUX Audience Awards this season at Scandinavia House! On March 27 we’ll be screening Deaf (Sorda)\, a “beautifully nuanced” debut by Spanish director Eva Libertad. Winner of the International Confederation of Arthouse Cinemas and the coveted Audience Award at the Panorama Section of the Berlinale\, Sorda offers a personal\, vital\, and profoundly moving look into the complexity and rarely explored relationship between the deaf and hearing worlds. \nÁngela\, a deaf woman\, and Héctor\, her hearing partner\, are expecting a child. They are excited about the pregnancy\, although they do not yet know whether the baby will be deaf or hearing. Despite both claiming they can handle whatever comes\, their underlying concerns are evident. After a complicated and emotionally intense labor\, Ángela gives birth to their daughter\, but the pair will have to wait a couple of months to learn if the baby is hearing or not. Navigating this limbo\, Héctor struggles to fully grasp the challenges Ángela is facing\, while she must come to terms with raising a daughter who may not share her experience of the world. This journey forces both of them to question their roles as partners and parents\, as Ángela grapples with her identity in a society that does not fully accept or understand her. \nRegister \nThis event has been organized by the European Parliament in partnership with Scandinavia House. The LUX Audience Award is a joint initiative of the European Parliament and the European Film Academy in collaboration with the European Commission and Europa Cinemas. It is the largest audience award worldwide and the only film prize in the world where citizens together with Members of the European Parliament -with each group weighting 50% -can decide who the winner will be by rating the nominated films  online. The LUX Audience Award fosters dialogue and engagement between politics and the public through the medium of film. The nominated films address European values and raise awareness about some of today’s main social and political issues such as mental health\, poverty\, climate change\, freedom of expression\, gender equality\, LGBTIQ+ rights. \n \n 
URL:https://www.scandinaviahouse.org/event/deaf-sorda-lux-audience-awards-2026/
LOCATION:Scandinavia House\, 58 Park Avenue\, New York\, NY\, 10016\, United States
CATEGORIES:Films
ATTACH;FMTTYPE=image/jpeg:https://www.scandinaviahouse.org/wp-content/uploads/2026/01/mspfilm-CL25-DEAF_1920x1080-scaled.jpg
END:VEVENT
BEGIN:VEVENT
DTSTART;TZID=America/New_York:20260328T100000
DTEND;TZID=America/New_York:20260328T160000
DTSTAMP:20260420T094137
CREATED:20260224T223949Z
LAST-MODIFIED:20260226T204714Z
UID:10005686-1774692000-1774713600@www.scandinaviahouse.org
SUMMARY:MAIL ART WORKSHOP WITH RIITTA IKONEN
DESCRIPTION:This hands-on workshop introduces participants to the practice of mail art as a collaborative and time-based artistic process involving sender\, postal system\, and receiver. Led by acclaimed Finnish artist Riitta Ikonen ahead of her exhibition at the American Swedish Institute\, the workshop invites participants to work with everyday materials and found ephemera to create postcard-sized artworks intended for mailing. \nDuring the full-day session (10:00 am–4:00 pm\, with a 30–45 minute lunch break)\, participants will receive an introduction to the history and contemporary contexts of mail art\, followed by guided studio time. Each participant will create up to three postcards\, including one work to be sent to the Finnish Postal Museum as part of a dedicated exhibition documenting the journey of the artworks from New York to Finland. \nIn advance of the workshop\, participants will be invited to collect a hand-created mail art postcard by Riitta Ikonen from a designated “mailbox” at Scandinavia House. The postcard provides conceptual prompts and practical guidance for observing and gathering materials from daily life\, offering participants the opportunity to experience mail art as recipients prior to making their own works. \nAll materials\, postage\, and addresses are provided. No prior experience is required. \nABOUT THE INSTRUCTOR: \nOriginally from the deep forests of eastern Finland\, Riitta Ikonen works through performance\, wearable sculptures\, participatory performances and mail art. After completing her MA at the Royal College of Art in London in 2008\, she has exhibited internationally holding shows at the Barbican Centre\, Kiasma Museum of Contemporary Art\, Peabody Essex Museum and the London- and Pyeongchang Olympics. Ikonen lectures at schools and universities and advocates for interdisciplinary collaboration for actionable change. \nPurchase tickets
URL:https://www.scandinaviahouse.org/event/mail-art-workshop-with-riitta-ikonen-4/
LOCATION:Scandinavia House\, 58 Park Avenue\, New York\, NY\, 10016\, United States
ATTACH;FMTTYPE=image/jpeg:https://www.scandinaviahouse.org/wp-content/uploads/2026/02/Mailartweb-scaled.jpg
END:VEVENT
BEGIN:VEVENT
DTSTART;TZID=America/New_York:20260328T110000
DTEND;TZID=America/New_York:20260328T170000
DTSTAMP:20260420T094137
CREATED:20260218T220940Z
LAST-MODIFIED:20260218T220940Z
UID:10005688-1774695600-1774717200@www.scandinaviahouse.org
SUMMARY:NORDIC KNIT-IN | ADULT CRAFTS WITH HILARY SNELL
DESCRIPTION:On March 28\, join us for a day-long Nordic Knit-In with Scandinavia House’s veteran knitter Hilary Snell! We will provide participants with a relaxed and warm environment for beginning\, continuing or finishing up a craft of your choosing. You bring your materials and create whatever you want. Knitting\, crocheting\, painting\, drawing\, finger knitting\, embroidery\, whatever sparks your creativity— we welcome you! \nParticipants are encouraged to drop in and stay for a minute or stay for hours — and create\, create\, create — alongside other crafters. Children over 5 are welcome with supervision. BYOY = Bring Your Own Yarn (or your own art supplies). We will provide limited art supplies. \nABOUT THE INSTRUCTOR: \nHilary Snell\, a longtime visitor services staff member of Scandinavia House\, is of English\, Scottish\, and Irish descent\, and loves everything about Nordic culture. She was taught to knit by her grandmother and mother when she was eight years old and took it up again in her late 20s\, and has been knitting ever since. She enjoys sharing her love of the craft and of fiber arts in general. See her work at: https://www.instagram.com/lockwoodknits/ \nPurchase tickets
URL:https://www.scandinaviahouse.org/event/nordic-knit-in-adult-crafts-with-hilary-snell-2/
LOCATION:Scandinavia House\, 58 Park Avenue\, New York\, NY\, 10016\, United States
ATTACH;FMTTYPE=image/jpeg:https://www.scandinaviahouse.org/wp-content/uploads/2026/01/NordicKnit-inweb-scaled.jpg
END:VEVENT
END:VCALENDAR