BEGIN:VCALENDAR
VERSION:2.0
PRODID:-//Scandinavia House - ECPv6.15.3//NONSGML v1.0//EN
CALSCALE:GREGORIAN
METHOD:PUBLISH
X-ORIGINAL-URL:https://www.scandinaviahouse.org
X-WR-CALDESC:Events for Scandinavia House
REFRESH-INTERVAL;VALUE=DURATION:PT1H
X-Robots-Tag:noindex
X-PUBLISHED-TTL:PT1H
BEGIN:VTIMEZONE
TZID:America/New_York
BEGIN:DAYLIGHT
TZOFFSETFROM:-0500
TZOFFSETTO:-0400
TZNAME:EDT
DTSTART:20260308T070000
END:DAYLIGHT
BEGIN:STANDARD
TZOFFSETFROM:-0400
TZOFFSETTO:-0500
TZNAME:EST
DTSTART:20261101T060000
END:STANDARD
END:VTIMEZONE
BEGIN:VEVENT
DTSTART;TZID=America/New_York:20260505T170000
DTEND;TZID=America/New_York:20260505T193000
DTSTAMP:20260419T184256
CREATED:20260324T194321Z
LAST-MODIFIED:20260417T204129Z
UID:10005726-1778000400-1778009400@www.scandinaviahouse.org
SUMMARY:SOLD OUT — NORTHERN PATTERNS: LEARN TRADITIONAL ARCTIC BEADING DETAILS
DESCRIPTION:*Please note: this workshop is now sold out.* \nThis hands-on workshop draws inspiration from the work of master bone carver Inna Eilyuvna Iadne\, whose intricate sculptures and jewelry reflect the cultural depth and artistic traditions of the Indigenous peoples of Yamal. Participants will explore Northern ornamental traditions through beadweaving\, translating symbolic patterns and storytelling elements into contemporary wearable art. \nThrough guided practice\, attendees will learn 1 to 3 beadweaving techniques and create an original jewelry piece such as earrings\, a bracelet\, or a pendant. Along the way\, they will gain insight into the symbolism\, composition\, and cultural context that inform Northern decorative arts\, as seen in Iadne’s meticulous attention to detail and narrative craftsmanship. \nThe workshop aims to develop artistic taste\, strengthen compositional thinking\, and equip participants with the skills to independently design and create meaningful handmade pieces that connect traditional heritage with modern expression. \n\nPurchase tickets
URL:https://www.scandinaviahouse.org/event/northern-patterns-learn-traditional-arctic-beading-details/2026-05-05/
LOCATION:Scandinavia House\, 58 Park Avenue\, New York\, NY\, 10016\, United States
ATTACH;FMTTYPE=image/png:https://www.scandinaviahouse.org/wp-content/uploads/2026/03/Innawebnew-scaled.png
END:VEVENT
BEGIN:VEVENT
DTSTART;TZID=America/New_York:20260505T190000
DTEND;TZID=America/New_York:20260505T203000
DTSTAMP:20260419T184256
CREATED:20260416T191132Z
LAST-MODIFIED:20260416T191132Z
UID:10005750-1778007600-1778013000@www.scandinaviahouse.org
SUMMARY:THE FIRST LADY NEXT DOOR WITH ELIZA REID
DESCRIPTION:On May 5\, join us for a talk on The First Lady Next Door with author Eliza Reid! \nIn early 2016\, Eliza Reid’s biggest daily goals were modest but meaningful: showering without one of her four kids bursting into the bathroom\, juggling clients without dropping a deadline\, and growing the writers’ retreat she was building from scratch. What wasn’t onher bingo card? That her husband—a bookish\, cardigan-wearing history professor—would run for president of Iceland… and\, seven weeks later\, actually win. \nSuddenly\, Canadian-born Eliza was catapulted into a new life as first lady of her adopted country with the eyes of a nation watching her every move—as someone’s wife. Absent an instruction manual (she googled how to curtsy before meeting the queen of Denmark)\, she decided to do what she’d always done: figure it out on her own terms. Part fish out of water story and part fairy tale\, The First Lady Next Door takes readers from rural Ontario to Timbuktu\, and from the White House to Buckingham Palace. Eliza shows how embracing authenticity in all its messiness can becomeyour greatest strength\, even when the world expects polished perfection. After all\, our everyday moments are what create the road map for making the unexpected count. \nPurchase Tickets
URL:https://www.scandinaviahouse.org/event/the-first-lady-next-door-with-eliza-reid/
LOCATION:Scandinavia House\, 58 Park Avenue\, New York\, NY\, 10016\, United States
ATTACH;FMTTYPE=image/jpeg:https://www.scandinaviahouse.org/wp-content/uploads/2026/04/firstladynextdoorweb-1-scaled.jpg
END:VEVENT
BEGIN:VEVENT
DTSTART;TZID=America/New_York:20260506T190000
DTEND;TZID=America/New_York:20260506T210000
DTSTAMP:20260419T184256
CREATED:20251211T163233Z
LAST-MODIFIED:20251211T163233Z
UID:10005496-1778094000-1778101200@www.scandinaviahouse.org
SUMMARY:THE SQUARE | SILVER ANNIVERSARY RESCREENS
DESCRIPTION:On May 6\, see The Square to wrap up our series of Silver Anniversary Rescreens! First screened at Scandinavia House in 2018\, this gripping sociological suspense story by director Ruben Östlund dives into the ethics of moral responsibility\, privilege\, and media sensationalism. \n\nChristian is the respected curator of a contemporary art museum\, a divorced but devoted father of two\, who drives an electric car and supports good causes. His next exhibition\, “The Square\,” is an installation that invites passersby to altruistic deeds\, reminding them of their role as responsible human beings. But sometimes it’s difficult to live up to your own ideas: When Christian’s phone is stolen\, his foolish response drags him into a shameful situation. And when the museum’s PR agency creates an unexpected campaign for “The Square\,” the overblown reaction from the public sends Christian\, as well as the museum\, into an existential crisis. \n\n\nThe Square was shortlisted for the 2017 Oscars as the Best Foreign Language Film nominee. It has received numerous distinctions since its premiere\, including six awards at the European Film Awards\, including Best European Film; and the Palme D’Or Winner at the Cannes Film Festival\, 2017. \n“Ruben Östlund’s sprawling and daringly surreal satire The Square turns a contemporary art museum into a city-state of bizarre\, dysfunctional and Ballardian strangeness… It sets out to make your jaw drop. And it succeeds.” —Peter Bradshaw\, The Guardian \n “[Östlund] creates suspense in a new-fangled way\, turning the space between people into an alarming existential battleground.” —Owen Gleiberman\, Variety \n\nPurchase tickets \nThis program has been supported by the Monika and Charles Heimbold Fund for Exhibitions and Programs. \n 
URL:https://www.scandinaviahouse.org/event/the-square-silver-anniversary-rescreens/
LOCATION:Scandinavia House\, 58 Park Avenue\, New York\, NY\, 10016\, United States
CATEGORIES:Films
ATTACH;FMTTYPE=image/jpeg:https://www.scandinaviahouse.org/wp-content/uploads/2018/02/2.jpg
END:VEVENT
END:VCALENDAR