BEGIN:VCALENDAR
VERSION:2.0
PRODID:-//Scandinavia House - ECPv6.15.3//NONSGML v1.0//EN
CALSCALE:GREGORIAN
METHOD:PUBLISH
X-ORIGINAL-URL:https://www.scandinaviahouse.org
X-WR-CALDESC:Events for Scandinavia House
REFRESH-INTERVAL;VALUE=DURATION:PT1H
X-Robots-Tag:noindex
X-PUBLISHED-TTL:PT1H
BEGIN:VTIMEZONE
TZID:America/New_York
BEGIN:DAYLIGHT
TZOFFSETFROM:-0500
TZOFFSETTO:-0400
TZNAME:EDT
DTSTART:20260308T070000
END:DAYLIGHT
BEGIN:STANDARD
TZOFFSETFROM:-0400
TZOFFSETTO:-0500
TZNAME:EST
DTSTART:20261101T060000
END:STANDARD
END:VTIMEZONE
BEGIN:VEVENT
DTSTART;TZID=America/New_York:20260603T170000
DTEND;TZID=America/New_York:20260603T193000
DTSTAMP:20260424T084435
CREATED:20260408T160007Z
LAST-MODIFIED:20260408T195849Z
UID:10005741-1780506000-1780515000@www.scandinaviahouse.org
SUMMARY:GRAPHITE AND CHARCOAL ON PAPER
DESCRIPTION:This adult workshop series offers a gentle introduction to the tactile qualities of materials such as paper\, pastel\, paint\, graphite\, and ink. Open to all levels\, including new students\, the series focuses on exploration\, play\, and the process of making rather than finished outcomes. Participants will experiment with a range of techniques across sessions\, including acrylic and watercolor painting\, pastel work\, ink practices\, drawing with graphite and charcoal\, and creating sculptural forms from paper\, while also engaging with relevant art history and contemporary art. Each class invites a meditative and attentive approach\, encouraging students to discover inspiration from both inner and outer worlds. Sessions conclude with supportive group reflections that honor each participant’s process and discoveries. As part of the experience\, students will also explore the 3rd floor gallery exhibition “Inside Voices\, Outside Light: Perspectives on West Nordic Art.” \nIn this course\, students will explore and experiment with using graphite pencils and charcoal on paper. \nThe series can be taken as a full progression or as individual\, standalone classes\, with participation limited to 12 students aged 20 and above. \nPurchase Tickets
URL:https://www.scandinaviahouse.org/event/graphite-and-charcoal-on-paper/
LOCATION:Scandinavia House\, 58 Park Avenue\, New York\, NY\, 10016\, United States
ATTACH;FMTTYPE=image/png:https://www.scandinaviahouse.org/wp-content/uploads/2026/04/graphiteandpaper-scaled.png
END:VEVENT
BEGIN:VEVENT
DTSTART;TZID=America/New_York:20260603T190000
DTEND;TZID=America/New_York:20260603T213000
DTSTAMP:20260424T084435
CREATED:20260421T162814Z
LAST-MODIFIED:20260421T162814Z
UID:10005751-1780513200-1780522200@www.scandinaviahouse.org
SUMMARY:THE LOVE THAT REMAINS | NEW NORDIC CINEMA
DESCRIPTION:On June 3\, see Icelandic director Hlynur Pálmason’s tender\, quirky family drama The Love That Remains! \nCharting the gradual evolution of a family in the midst of an irreparable fracture\, The Love That Remains is a poignant\, crisply pointillistic domestic drama that observes life’s changes with humor and whimsy\, set against the majestic\, ever-shifting Icelandic landscape. Visual artist Anna (Saga Garðarsdóttir) and fisherman Magnús (Sverrir Guðnason) were teenage sweethearts but have recently grown apart\, and Magnús has moved out of the house. As long as the newly estranged parents put on a good face\, the children—and their adorable sheepdog Panda (who won the prestigious Palme Dog award at Cannes)—seem to take the split in stride. Yet as Magnús becomes increasingly alienated from his domestic life\, harsh reality can’t help but bubble to the surface. \nHlynur Pálmason’s follow-up to his austere 19th-century drama Godland is a “constantly surprising” film with an immaculate sense of framing and pacing—and an evocative\, dulcet piano score by Harry Hunt—dotted with idiosyncratic flights of fancy that never detract from the central emotional authenticity. \nPurchase Tickets
URL:https://www.scandinaviahouse.org/event/the-love-that-remains-new-nordic-cinema/
LOCATION:Scandinavia House\, 58 Park Avenue\, New York\, NY\, 10016\, United States
ATTACH;FMTTYPE=image/jpeg:https://www.scandinaviahouse.org/wp-content/uploads/2025/11/The-Love-That-Remains_NYFF63_4-copy-scaled.jpg
END:VEVENT
END:VCALENDAR